Workbook
Name Print_Area_Candidate: OFFSET(Candidates!$I$1,0,0,COUNT(Candidates!$I$1:$I$29)+3,6)
Name Print_Area_Office: OFFSET(Offices!$G$1,0,0,COUNT(Offices!$G$1:$G$160)+3,5)

Sheet Candidates
B1: NAME | C1: LNAME | D1: CAND. # | I1: SELECT CANDIDATE FROM DROP-DOWN MENU BELOW | J1: NOTE: Does not include positions that were appointed. Primary: no background. General: gray background | Q1: Note: if you download this file and wish to make changes, the password to unprotect this sheet is 12345 The print area is currently set to print columns I through N.
I2: Ben Crabtree
B3: Michael Aaron | C3: Aaron | D3: 1 | I3: ELECTION DATE | J3: BALLOT NAME | K3: OFFICE | L3: ELECTION TYPE | M3: PARTY | N3: WIN?
B4: Chris Abbott | C4: Abbott | D4: 2 | I4: {=IFERROR(INDEX(Data!B:B,SMALL(Data!O:O,ROW(B1))),"")} -> 29347 | J4: =IFERROR(INDEX(Data!C:C,SMALL(Data!O:O,ROW(B1))),"") -> Ben Crabtree | K4: =IFERROR(PROPER(INDEX(Data!I:I,SMALL(Data!O:O,ROW(B1)))),"") -> Assessor Of Property | L4: {=IFERROR(INDEX(Data!A:A,SMALL(Data!O:O,ROW(B1))),"")} -> Primary | M4: {=IFERROR(INDEX(Data!F:F,SMALL(Data!O:O,ROW(B1))),"")} -> Republican | N4: {=IFERROR(INDEX(Data!M:M,SMALL(Data!O:O,ROW(B1))),"")} -> Yes
B5: Lonnie Abbott | C5: Abbott | D5: 3 | I5: {=IFERROR(INDEX(Data!B:B,SMALL(Data!O:O,ROW(B2))),"")} -> 29440 | J5: =IFERROR(INDEX(Data!C:C,SMALL(Data!O:O,ROW(B2))),"") -> Ben Crabtree | K5: =IFERROR(PROPER(INDEX(Data!I:I,SMALL(Data!O:O,ROW(B2)))),"") -> Assessor Of Property | L5: {=IFERROR(INDEX(Data!A:A,SMALL(Data!O:O,ROW(B2))),"")} -> General | M5: {=IFERROR(INDEX(Data!F:F,SMALL(Data!O:O,ROW(B2))),"")} -> Republican | N5: {=IFERROR(INDEX(Data!M:M,SMALL(Data!O:O,ROW(B2))),"")} -> Yes
B6: Shawn Abbott | C6: Abbott | D6: 4 | I6: {=IFERROR(INDEX(Data!B:B,SMALL(Data!O:O,ROW(B3))),"")} -> 30803 | J6: =IFERROR(INDEX(Data!C:C,SMALL(Data!O:O,ROW(B3))),"") -> Ben Crabtree | K6: =IFERROR(PROPER(INDEX(Data!I:I,SMALL(Data!O:O,ROW(B3)))),"") -> Assessor Of Property | L6: {=IFERROR(INDEX(Data!A:A,SMALL(Data!O:O,ROW(B3))),"")} -> Primary | M6: {=IFERROR(INDEX(Data!F:F,SMALL(Data!O:O,ROW(B3))),"")} -> Republican | N6: {=IFERROR(INDEX(Data!M:M,SMALL(Data!O:O,ROW(B3))),"")} -> Yes
B7: Roger Amonett | C7: Amonett | D7: 5 | I7: {=IFERROR(INDEX(Data!B:B,SMALL(Data!O:O,ROW(B4))),"")} -> 30896 | J7: =IFERROR(INDEX(Data!C:C,SMALL(Data!O:O,ROW(B4))),"") -> Benton (Ben) C. Crabtree | K7: =IFERROR(PROPER(INDEX(Data!I:I,SMALL(Data!O:O,ROW(B4)))),"") -> Assessor Of Property | L7: {=IFERROR(INDEX(Data!A:A,SMALL(Data!O:O,ROW(B4))),"")} -> General | M7: {=IFERROR(INDEX(Data!F:F,SMALL(Data!O:O,ROW(B4))),"")} -> Republican | N7: {=IFERROR(INDEX(Data!M:M,SMALL(Data!O:O,ROW(B4))),"")} -> Yes
B8: Jennifer Anderson | C8: Anderson | D8: 6 | I8: {=IFERROR(INDEX(Data!B:B,SMALL(Data!O:O,ROW(B5))),"")} -> 32210 | J8: =IFERROR(INDEX(Data!C:C,SMALL(Data!O:O,ROW(B5))),"") -> Benton (Ben) Crabtree | K8: =IFERROR(PROPER(INDEX(Data!I:I,SMALL(Data!O:O,ROW(B5)))),"") -> Assessor Of Property | L8: {=IFERROR(INDEX(Data!A:A,SMALL(Data!O:O,ROW(B5))),"")} -> Primary | M8: {=IFERROR(INDEX(Data!F:F,SMALL(Data!O:O,ROW(B5))),"")} -> Republican | N8: {=IFERROR(INDEX(Data!M:M,SMALL(Data!O:O,ROW(B5))),"")} -> Yes
B9: Larry Anderson | C9: Anderson | D9: 7 | I9: {=IFERROR(INDEX(Data!B:B,SMALL(Data!O:O,ROW(B6))),"")} -> 32359 | J9: =IFERROR(INDEX(Data!C:C,SMALL(Data!O:O,ROW(B6))),"") -> Benton (Ben) Crabtree | K9: =IFERROR(PROPER(INDEX(Data!I:I,SMALL(Data!O:O,ROW(B6)))),"") -> Assessor Of Property | L9: {=IFERROR(INDEX(Data!A:A,SMALL(Data!O:O,ROW(B6))),"")} -> General | M9: {=IFERROR(INDEX(Data!F:F,SMALL(Data!O:O,ROW(B6))),"")} -> Republican | N9: {=IFERROR(INDEX(Data!M:M,SMALL(Data!O:O,ROW(B6))),"")} -> No
B10: Nathan Anderson | C10: Anderson | D10: 8 | I10: {=IFERROR(INDEX(Data!B:B,SMALL(Data!O:O,ROW(B7))),"")} | J10: =IFERROR(INDEX(Data!C:C,SMALL(Data!O:O,ROW(B7))),"") | K10: =IFERROR(PROPER(INDEX(Data!I:I,SMALL(Data!O:O,ROW(B7)))),"") | L10: {=IFERROR(INDEX(Data!A:A,SMALL(Data!O:O,ROW(B7))),"")} | M10: {=IFERROR(INDEX(Data!F:F,SMALL(Data!O:O,ROW(B7))),"")} | N10: {=IFERROR(INDEX(Data!M:M,SMALL(Data!O:O,ROW(B7))),"")}
B11: Stanley Anderson | C11: Anderson | D11: 9 | I11: {=IFERROR(INDEX(Data!B:B,SMALL(Data!O:O,ROW(B8))),"")} | J11: =IFERROR(INDEX(Data!C:C,SMALL(Data!O:O,ROW(B8))),"") | K11: =IFERROR(PROPER(INDEX(Data!I:I,SMALL(Data!O:O,ROW(B8)))),"") | L11: {=IFERROR(INDEX(Data!A:A,SMALL(Data!O:O,ROW(B8))),"")} | M11: {=IFERROR(INDEX(Data!F:F,SMALL(Data!O:O,ROW(B8))),"")} | N11: {=IFERROR(INDEX(Data!M:M,SMALL(Data!O:O,ROW(B8))),"")}
B12: Barry Hoyle Asberry | C12: Asberry | D12: 10 | I12: {=IFERROR(INDEX(Data!B:B,SMALL(Data!O:O,ROW(B9))),"")} | J12: =IFERROR(INDEX(Data!C:C,SMALL(Data!O:O,ROW(B9))),"") | K12: =IFERROR(PROPER(INDEX(Data!I:I,SMALL(Data!O:O,ROW(B9)))),"") | L12: {=IFERROR(INDEX(Data!A:A,SMALL(Data!O:O,ROW(B9))),"")} | M12: {=IFERROR(INDEX(Data!F:F,SMALL(Data!O:O,ROW(B9))),"")} | N12: {=IFERROR(INDEX(Data!M:M,SMALL(Data!O:O,ROW(B9))),"")}
B13: Everett Asberry | C13: Asberry | D13: 11 | I13: {=IFERROR(INDEX(Data!B:B,SMALL(Data!O:O,ROW(B10))),"")} | J13: =IFERROR(INDEX(Data!C:C,SMALL(Data!O:O,ROW(B10))),"") | K13: =IFERROR(PROPER(INDEX(Data!I:I,SMALL(Data!O:O,ROW(B10)))),"") | L13: {=IFERROR(INDEX(Data!A:A,SMALL(Data!O:O,ROW(B10))),"")} | M13: {=IFERROR(INDEX(Data!F:F,SMALL(Data!O:O,ROW(B10))),"")} | N13: {=IFERROR(INDEX(Data!M:M,SMALL(Data!O:O,ROW(B10))),"")}
B14: Billy Gayle Barber | C14: Barber | D14: 12 | I14: {=IFERROR(INDEX(Data!B:B,SMALL(Data!O:O,ROW(B11))),"")} | J14: =IFERROR(INDEX(Data!C:C,SMALL(Data!O:O,ROW(B11))),"") | K14: =IFERROR(PROPER(INDEX(Data!I:I,SMALL(Data!O:O,ROW(B11)))),"") | L14: {=IFERROR(INDEX(Data!A:A,SMALL(Data!O:O,ROW(B11))),"")} | M14: {=IFERROR(INDEX(Data!F:F,SMALL(Data!O:O,ROW(B11))),"")} | N14: {=IFERROR(INDEX(Data!M:M,SMALL(Data!O:O,ROW(B11))),"")}
B15: Jack Barnes | C15: Barnes | D15: 13 | I15: {=IFERROR(INDEX(Data!B:B,SMALL(Data!O:O,ROW(B12))),"")} | J15: =IFERROR(INDEX(Data!C:C,SMALL(Data!O:O,ROW(B12))),"") | K15: =IFERROR(PROPER(INDEX(Data!I:I,SMALL(Data!O:O,ROW(B12)))),"") | L15: {=IFERROR(INDEX(Data!A:A,SMALL(Data!O:O,ROW(B12))),"")} | M15: {=IFERROR(INDEX(Data!F:F,SMALL(Data!O:O,ROW(B12))),"")} | N15: {=IFERROR(INDEX(Data!M:M,SMALL(Data!O:O,ROW(B12))),"")}
... B29: Tony Beaty | C29: Beaty | D29: 27 | I29: {=IFERROR(INDEX(Data!B:B,SMALL(Data!O:O,ROW(B26))),"")} | J29: =IFERROR(INDEX(Data!C:C,SMALL(Data!O:O,ROW(B26))),"") | K29: =IFERROR(PROPER(INDEX(Data!I:I,SMALL(Data!O:O,ROW(B26)))),"") | L29: {=IFERROR(INDEX(Data!A:A,SMALL(Data!O:O,ROW(B26))),"")} | M29: {=IFERROR(INDEX(Data!F:F,SMALL(Data!O:O,ROW(B26))),"")} | N29: {=IFERROR(INDEX(Data!M:M,SMALL(Data!O:O,ROW(B26))),"")}
B30: Wallace Beaty | C30: Beaty | D30: 28
B31: Cary W. Biddle | C31: Biddle | D31: 29
B32: Cletis Bilbrey | C32: Bilbrey | D32: 30
B33: Clyde (Cotton) Bilbrey | C33: Bilbrey | D33: 31
B34: John L "Johnny" Bilbrey | C34: Bilbrey | D34: 32
B35: Kenneth Bilbrey | C35: Bilbrey | D35: 33
B36: Mike Bilbrey | C36: Bilbrey | D36: 34
B37: Stephen Bilbrey | C37: Bilbrey | D37: 35
B38: Ralph E. Booher | C38: Booher | D38: 36
B39: Tim "Elmo" Booher | C39: Booher | D39: 37
B40: Michelle Sells Brannum | C40: Brannum | D40: 38
B41: Porter Cleston Brannum | C41: Brannum | D41: 39
... B337: No declared candidates | C337: Zzzzzzz | D337: 335

Sheet Offices
B1: OFFICES | G1: SELECT OFFICE FROM DROP-DOWN MENU BELOW | H1: NOTE: Does not include office holders who were appointed. Primary: no background. General: gray background and winner in bold | N1: Note: if you download this file and wish to make changes, the password to unprotect this sheet is 12345 The print area is currently set to print columns G through K.
G2: REGISTER OF DEEDS
B3: COUNTY EXECUTIVE | G3: ELECTION DATE | H3: CANDIDATE | I3: ELECTION TYPE | J3: PARTY | K3: WIN?
B4: COUNTY COMMISSION DIST 1 | G4: {=IFERROR(INDEX(Data!B:B,SMALL(Data!P:P,ROW(B1))),"")} -> 30075 | H4: {=IFERROR(INDEX(Data!C:C,SMALL(Data!P:P,ROW(B1))),"")} -> Melba Jean Crouch | I4: {=IFERROR(INDEX(Data!A:A,SMALL(Data!P:P,ROW(B1))),"")} -> Primary | J4: {=IFERROR(INDEX(Data!F:F,SMALL(Data!P:P,ROW(B1))),"")} -> Republican | K4: {=IFERROR(INDEX(Data!N:N,SMALL(Data!P:P,ROW(B1))),"")} -> No
B5: COUNTY COMMISSION DIST 2 | G5: {=IFERROR(INDEX(Data!B:B,SMALL(Data!P:P,ROW(B3))),"")} -> 30075 | H5: {=IFERROR(INDEX(Data!C:C,SMALL(Data!P:P,ROW(B3))),"")} -> Linda Young | I5: {=IFERROR(INDEX(Data!A:A,SMALL(Data!P:P,ROW(B3))),"")} -> Primary | J5: {=IFERROR(INDEX(Data!F:F,SMALL(Data!P:P,ROW(B3))),"")} -> Republican | K5: {=IFERROR(INDEX(Data!N:N,SMALL(Data!P:P,ROW(B3))),"")} -> Yes
B6: COUNTY COMMISSION DIST 3 | G6: {=IFERROR(INDEX(Data!B:B,SMALL(Data!P:P,ROW(B4))),"")} -> 30168 | H6: {=IFERROR(INDEX(Data!C:C,SMALL(Data!P:P,ROW(B4))),"")} -> Ben E. Ford | I6: {=IFERROR(INDEX(Data!A:A,SMALL(Data!P:P,ROW(B4))),"")} -> General | J6: {=IFERROR(INDEX(Data!F:F,SMALL(Data!P:P,ROW(B4))),"")} -> Democratic | K6: {=IFERROR(INDEX(Data!N:N,SMALL(Data!P:P,ROW(B4))),"")} -> No
B7: COUNTY COMMISSION DIST 4 | G7: {=IFERROR(INDEX(Data!B:B,SMALL(Data!P:P,ROW(B5))),"")} -> 30168 | H7: {=IFERROR(INDEX(Data!C:C,SMALL(Data!P:P,ROW(B5))),"")} -> Linda Young | I7: {=IFERROR(INDEX(Data!A:A,SMALL(Data!P:P,ROW(B5))),"")} -> General | J7: {=IFERROR(INDEX(Data!F:F,SMALL(Data!P:P,ROW(B5))),"")} -> Republican | K7: {=IFERROR(INDEX(Data!N:N,SMALL(Data!P:P,ROW(B5))),"")} -> Yes
B8: ASSESSOR OF PROPERTY | G8: {=IFERROR(INDEX(Data!B:B,SMALL(Data!P:P,ROW(B6))),"")} -> 31538 | H8: {=IFERROR(INDEX(Data!C:C,SMALL(Data!P:P,ROW(B6))),"")} -> Phyllis Stephens | I8: {=IFERROR(INDEX(Data!A:A,SMALL(Data!P:P,ROW(B6))),"")} -> Primary | J8: {=IFERROR(INDEX(Data!F:F,SMALL(Data!P:P,ROW(B6))),"")} -> Republican | K8: {=IFERROR(INDEX(Data!N:N,SMALL(Data!P:P,ROW(B6))),"")} -> Yes
B9: COUNTY TRUSTEE | G9: {=IFERROR(INDEX(Data!B:B,SMALL(Data!P:P,ROW(B7))),"")} -> 31538 | H9: {=IFERROR(INDEX(Data!C:C,SMALL(Data!P:P,ROW(B7))),"")} -> Linda Young | I9: {=IFERROR(INDEX(Data!A:A,SMALL(Data!P:P,ROW(B7))),"")} -> Primary | J9: {=IFERROR(INDEX(Data!F:F,SMALL(Data!P:P,ROW(B7))),"")} -> Republican | K9: {=IFERROR(INDEX(Data!N:N,SMALL(Data!P:P,ROW(B7))),"")} -> No
B10: GENERAL SESSIONS JUDGE | G10: {=IFERROR(INDEX(Data!B:B,SMALL(Data!P:P,ROW(B8))),"")} -> 31631 | H10: {=IFERROR(INDEX(Data!C:C,SMALL(Data!P:P,ROW(B8))),"")} -> Porter Cleston Brannum | I10: {=IFERROR(INDEX(Data!A:A,SMALL(Data!P:P,ROW(B8))),"")} -> General | J10: {=IFERROR(INDEX(Data!F:F,SMALL(Data!P:P,ROW(B8))),"")} -> Democratic | K10: {=IFERROR(INDEX(Data!N:N,SMALL(Data!P:P,ROW(B8))),"")} -> No
B11: SHERIFF | G11: {=IFERROR(INDEX(Data!B:B,SMALL(Data!P:P,ROW(B9))),"")} -> 31631 | H11: {=IFERROR(INDEX(Data!C:C,SMALL(Data!P:P,ROW(B9))),"")} -> Phyllis Stephens | I11: {=IFERROR(INDEX(Data!A:A,SMALL(Data!P:P,ROW(B9))),"")} -> General | J11: {=IFERROR(INDEX(Data!F:F,SMALL(Data!P:P,ROW(B9))),"")} -> Republican | K11: {=IFERROR(INDEX(Data!N:N,SMALL(Data!P:P,ROW(B9))),"")} -> Yes
B12: CIRCUIT COURT CLERK | G12: {=IFERROR(INDEX(Data!B:B,SMALL(Data!P:P,ROW(B10))),"")} -> 32994 | H12: {=IFERROR(INDEX(Data!C:C,SMALL(Data!P:P,ROW(B10))),"")} -> Dale Keisling | I12: {=IFERROR(INDEX(Data!A:A,SMALL(Data!P:P,ROW(B10))),"")} -> Primary | J12: {=IFERROR(INDEX(Data!F:F,SMALL(Data!P:P,ROW(B10))),"")} -> Republican | K12: {=IFERROR(INDEX(Data!N:N,SMALL(Data!P:P,ROW(B10))),"")} -> No
B13: COUNTY CLERK | G13: {=IFERROR(INDEX(Data!B:B,SMALL(Data!P:P,ROW(B11))),"")} -> 32994 | H13: {=IFERROR(INDEX(Data!C:C,SMALL(Data!P:P,ROW(B11))),"")} -> Georgia Reynolds | I13: {=IFERROR(INDEX(Data!A:A,SMALL(Data!P:P,ROW(B11))),"")} -> Primary | J13: {=IFERROR(INDEX(Data!F:F,SMALL(Data!P:P,ROW(B11))),"")} -> Republican | K13: {=IFERROR(INDEX(Data!N:N,SMALL(Data!P:P,ROW(B11))),"")} -> No
B14: REGISTER OF DEEDS | G14: {=IFERROR(INDEX(Data!B:B,SMALL(Data!P:P,ROW(B12))),"")} -> 32994 | H14: {=IFERROR(INDEX(Data!C:C,SMALL(Data!P:P,ROW(B12))),"")} -> Phyllis Stephens | I14: {=IFERROR(INDEX(Data!A:A,SMALL(Data!P:P,ROW(B12))),"")} -> Primary | J14: {=IFERROR(INDEX(Data!F:F,SMALL(Data!P:P,ROW(B12))),"")} -> Republican | K14: {=IFERROR(INDEX(Data!N:N,SMALL(Data!P:P,ROW(B12))),"")} -> Yes
B15: ROAD SUPERINTENDENT | G15: {=IFERROR(INDEX(Data!B:B,SMALL(Data!P:P,ROW(B13))),"")} -> 33087 | H15: {=IFERROR(INDEX(Data!C:C,SMALL(Data!P:P,ROW(B13))),"")} -> Juanita Lee | I15: {=IFERROR(INDEX(Data!A:A,SMALL(Data!P:P,ROW(B13))),"")} -> General | J15: {=IFERROR(INDEX(Data!F:F,SMALL(Data!P:P,ROW(B13))),"")} -> Democratic | K15: {=IFERROR(INDEX(Data!N:N,SMALL(Data!P:P,ROW(B13))),"")} -> No
B16: SUPERINTENDENT OF SCHOOLS | G16: {=IFERROR(INDEX(Data!B:B,SMALL(Data!P:P,ROW(B14))),"")} -> 33087 | H16: {=IFERROR(INDEX(Data!C:C,SMALL(Data!P:P,ROW(B14))),"")} -> Phyllis Stephens | I16: {=IFERROR(INDEX(Data!A:A,SMALL(Data!P:P,ROW(B14))),"")} -> General | J16: {=IFERROR(INDEX(Data!F:F,SMALL(Data!P:P,ROW(B14))),"")} -> Republican | K16: {=IFERROR(INDEX(Data!N:N,SMALL(Data!P:P,ROW(B14))),"")} -> Yes
... B24: RECORDER | G24: {=IFERROR(INDEX(Data!B:B,SMALL(Data!P:P,ROW(B22))),"")} -> 37469 | H24: {=IFERROR(INDEX(Data!C:C,SMALL(Data!P:P,ROW(B22))),"")} -> Phyllis "Dowdy" Whitt | I24: {=IFERROR(INDEX(Data!A:A,SMALL(Data!P:P,ROW(B22))),"")} -> General | J24: {=IFERROR(INDEX(Data!F:F,SMALL(Data!P:P,ROW(B22))),"")} -> Republican | K24: {=IFERROR(INDEX(Data!N:N,SMALL(Data!P:P,ROW(B22))),"")} -> No
G25: {=IFERROR(INDEX(Data!B:B,SMALL(Data!P:P,ROW(B23))),"")} -> 38839 | H25: {=IFERROR(INDEX(Data!C:C,SMALL(Data!P:P,ROW(B23))),"")} -> Doug Scroggins | I25: {=IFERROR(INDEX(Data!A:A,SMALL(Data!P:P,ROW(B23))),"")} -> Primary | J25: {=IFERROR(INDEX(Data!F:F,SMALL(Data!P:P,ROW(B23))),"")} -> Republican | K25: {=IFERROR(INDEX(Data!N:N,SMALL(Data!P:P,ROW(B23))),"")} -> Yes
G26: {=IFERROR(INDEX(Data!B:B,SMALL(Data!P:P,ROW(B24))),"")} -> 38932 | H26: {=IFERROR(INDEX(Data!C:C,SMALL(Data!P:P,ROW(B24))),"")} -> Phyllis Ford | I26: {=IFERROR(INDEX(Data!A:A,SMALL(Data!P:P,ROW(B24))),"")} -> General | J26: {=IFERROR(INDEX(Data!F:F,SMALL(Data!P:P,ROW(B24))),"")} -> Democratic | K26: {=IFERROR(INDEX(Data!N:N,SMALL(Data!P:P,ROW(B24))),"")} -> Yes
G27: {=IFERROR(INDEX(Data!B:B,SMALL(Data!P:P,ROW(B25))),"")} -> 38932 | H27: {=IFERROR(INDEX(Data!C:C,SMALL(Data!P:P,ROW(B25))),"")} -> Doug Scroggins | I27: {=IFERROR(INDEX(Data!A:A,SMALL(Data!P:P,ROW(B25))),"")} -> General | J27: {=IFERROR(INDEX(Data!F:F,SMALL(Data!P:P,ROW(B25))),"")} -> Republican | K27: {=IFERROR(INDEX(Data!N:N,SMALL(Data!P:P,ROW(B25))),"")} -> No
G28: {=IFERROR(INDEX(Data!B:B,SMALL(Data!P:P,ROW(B26))),"")} -> 39756 | H28: {=IFERROR(INDEX(Data!C:C,SMALL(Data!P:P,ROW(B26))),"")} -> Frankie Beason | I28: {=IFERROR(INDEX(Data!A:A,SMALL(Data!P:P,ROW(B26))),"")} -> General | J28: {=IFERROR(INDEX(Data!F:F,SMALL(Data!P:P,ROW(B26))),"")} -> Republican | K28: {=IFERROR(INDEX(Data!N:N,SMALL(Data!P:P,ROW(B26))),"")} -> No
G29: {=IFERROR(INDEX(Data!B:B,SMALL(Data!P:P,ROW(B27))),"")} -> 39756 | H29: {=IFERROR(INDEX(Data!C:C,SMALL(Data!P:P,ROW(B27))),"")} -> Sherry "Dianne" Farmer | I29: {=IFERROR(INDEX(Data!A:A,SMALL(Data!P:P,ROW(B27))),"")} -> General | J29: {=IFERROR(INDEX(Data!F:F,SMALL(Data!P:P,ROW(B27))),"")} -> Independent | K29: {=IFERROR(INDEX(Data!N:N,SMALL(Data!P:P,ROW(B27))),"")} -> No
G30: {=IFERROR(INDEX(Data!B:B,SMALL(Data!P:P,ROW(B28))),"")} -> 39756 | H30: {=IFERROR(INDEX(Data!C:C,SMALL(Data!P:P,ROW(B28))),"")} -> Jeff Ford | I30: {=IFERROR(INDEX(Data!A:A,SMALL(Data!P:P,ROW(B28))),"")} -> General | J30: {=IFERROR(INDEX(Data!F:F,SMALL(Data!P:P,ROW(B28))),"")} -> Democratic | K30: {=IFERROR(INDEX(Data!N:N,SMALL(Data!P:P,ROW(B28))),"")} -> Yes
G31: {=IFERROR(INDEX(Data!B:B,SMALL(Data!P:P,ROW(B29))),"")} -> 39756 | H31: {=IFERROR(INDEX(Data!C:C,SMALL(Data!P:P,ROW(B29))),"")} -> Bill Logan | I31: {=IFERROR(INDEX(Data!A:A,SMALL(Data!P:P,ROW(B29))),"")} -> General | J31: {=IFERROR(INDEX(Data!F:F,SMALL(Data!P:P,ROW(B29))),"")} -> Independent | K31: {=IFERROR(INDEX(Data!N:N,SMALL(Data!P:P,ROW(B29))),"")} -> No
G32: {=IFERROR(INDEX(Data!B:B,SMALL(Data!P:P,ROW(B30))),"")} -> 39756 | H32: {=IFERROR(INDEX(Data!C:C,SMALL(Data!P:P,ROW(B30))),"")} -> Joey Rhule | I32: {=IFERROR(INDEX(Data!A:A,SMALL(Data!P:P,ROW(B30))),"")} -> General | J32: {=IFERROR(INDEX(Data!F:F,SMALL(Data!P:P,ROW(B30))),"")} -> Independent | K32: {=IFERROR(INDEX(Data!N:N,SMALL(Data!P:P,ROW(B30))),"")} -> No
G33: {=IFERROR(INDEX(Data!B:B,SMALL(Data!P:P,ROW(B31))),"")} -> 39756 | H33: {=IFERROR(INDEX(Data!C:C,SMALL(Data!P:P,ROW(B31))),"")} -> Jimmy Ray Sells | I33: {=IFERROR(INDEX(Data!A:A,SMALL(Data!P:P,ROW(B31))),"")} -> General | J33: {=IFERROR(INDEX(Data!F:F,SMALL(Data!P:P,ROW(B31))),"")} -> Independent | K33: {=IFERROR(INDEX(Data!N:N,SMALL(Data!P:P,ROW(B31))),"")} -> No
G34: {=IFERROR(INDEX(Data!B:B,SMALL(Data!P:P,ROW(B32))),"")} -> 39756 | H34: {=IFERROR(INDEX(Data!C:C,SMALL(Data!P:P,ROW(B32))),"")} -> Lynne Smoody | I34: {=IFERROR(INDEX(Data!A:A,SMALL(Data!P:P,ROW(B32))),"")} -> General | J34: {=IFERROR(INDEX(Data!F:F,SMALL(Data!P:P,ROW(B32))),"")} -> Independent | K34: {=IFERROR(INDEX(Data!N:N,SMALL(Data!P:P,ROW(B32))),"")} -> No
G35: {=IFERROR(INDEX(Data!B:B,SMALL(Data!P:P,ROW(B33))),"")} -> 40302 | H35: {=IFERROR(INDEX(Data!C:C,SMALL(Data!P:P,ROW(B33))),"")} -> Frankie Beason | I35: {=IFERROR(INDEX(Data!A:A,SMALL(Data!P:P,ROW(B33))),"")} -> Primary | J35: {=IFERROR(INDEX(Data!F:F,SMALL(Data!P:P,ROW(B33))),"")} -> Republican | K35: {=IFERROR(INDEX(Data!N:N,SMALL(Data!P:P,ROW(B33))),"")} -> No
G36: {=IFERROR(INDEX(Data!B:B,SMALL(Data!P:P,ROW(B34))),"")} -> 40302 | H36: {=IFERROR(INDEX(Data!C:C,SMALL(Data!P:P,ROW(B34))),"")} -> Letha (Mullins) McCurdy | I36: {=IFERROR(INDEX(Data!A:A,SMALL(Data!P:P,ROW(B34))),"")} -> Primary | J36: {=IFERROR(INDEX(Data!F:F,SMALL(Data!P:P,ROW(B34))),"")} -> Republican | K36: {=IFERROR(INDEX(Data!N:N,SMALL(Data!P:P,ROW(B34))),"")} -> Yes
... G119: {=IFERROR(INDEX(Data!B:B,SMALL(Data!P:P,ROW(B117))),"")} | H119: {=IFERROR(INDEX(Data!C:C,SMALL(Data!P:P,ROW(B117))),"")} | I119: {=IFERROR(INDEX(Data!A:A,SMALL(Data!P:P,ROW(B117))),"")} | J119: {=IFERROR(INDEX(Data!F:F,SMALL(Data!P:P,ROW(B117))),"")} | K119: {=IFERROR(INDEX(Data!N:N,SMALL(Data!P:P,ROW(B117))),"")}

Sheet Data
A1: TYPE | B1: DATE | C1: NAME | D1: LNAME | E1: NAME # | F1: PARTY | G1: VOTES | H1: OFFICE | I1: OFFICE ONLY | J1: OFFICE # | K1: VOTE FOR | L1: CONTEST# | M1: WIN? | N1: WIN W/ VOTE FOR | O1: CAND. MATCH | P1: OFFICE MATCH | R1: CAND #: | S1: =INDEX(Candidates!D:D,MATCH(Candidates!I2,Candidates!B:B,0)) -> 76 | T1: OFFICE #: | U1: =MATCH(Offices!G2,Offices!B3:B24,0) -> 12
A2: Primary | B2: 29347 | C2: Ben Crabtree | D2: Crabtree | E2: 76 | F2: Republican | G2: 649 | H2: ASSESSOR OF PROPERTY | I2: =REPLACE(H2,FIND(" -",H2&" -"),99,"") -> ASSESSOR OF PROPERTY | J2: 6 | K2: 1 | L2: 1 | M2: Yes | N2: Yes | O2: =IF(E2=$S$1,ROW(),"") -> 2 | P2: =IF(J2=$U$1,ROW(),"")
A3: Primary | B3: 29347 | C3: J. B. King | D3: King | E3: 158 | F3: Republican | G3: 510 | H3: ASSESSOR OF PROPERTY | I3: =REPLACE(H3,FIND(" -",H3&" -"),99,"") -> ASSESSOR OF PROPERTY | J3: 6 | K3: 1 | L3: 1 | M3: No | N3: No | O3: =IF(E3=$S$1,ROW(),"") | P3: =IF(J3=$U$1,ROW(),"")
A4: Primary | B4: 29347 | C4: Billy Gayle Barber | D4: Barber | E4: 12 | F4: Republican | G4: 212 | H4: SUPERINTENDENT OF SCHOOLS | I4: =REPLACE(H4,FIND(" -",H4&" -"),99,"") -> SUPERINTENDENT OF SCHOOLS | J4: 14 | K4: 1 | L4: 2 | M4: No | N4: No | O4: =IF(E4=$S$1,ROW(),"") | P4: =IF(J4=$U$1,ROW(),"")
A5: Primary | B5: 29347 | C5: Maxie Garrett | D5: Garrett | E5: 135 | F5: Republican | G5: 565 | H5: SUPERINTENDENT OF SCHOOLS | I5: =REPLACE(H5,FIND(" -",H5&" -"),99,"") -> SUPERINTENDENT OF SCHOOLS | J5: 14 | K5: 1 | L5: 2 | M5: Yes | N5: Yes | O5: =IF(E5=$S$1,ROW(),"") | P5: =IF(J5=$U$1,ROW(),"")
A6: Primary | B6: 29347 | C6: Audrey Tompkins | D6: Tompkins | E6: 302 | F6: Republican | G6: 399 | H6: SUPERINTENDENT OF SCHOOLS | I6: =REPLACE(H6,FIND(" -",H6&" -"),99,"") -> SUPERINTENDENT OF SCHOOLS | J6: 14 | K6: 1 | L6: 2 | M6: No | N6: No | O6: =IF(E6=$S$1,ROW(),"") | P6: =IF(J6=$U$1,ROW(),"")
A7: Primary | B7: 29347 | C7: Jay Decker | D7: Decker | E7: 101 | F7: Republican | G7: 99 | H7: SCHOOL BOARD MEMBER DISTRICT 4 | I7: =REPLACE(H7,FIND(" -",H7&" -"),99,"") -> SCHOOL BOARD MEMBER DISTRICT 4 | J7: 18 | K7: 1 | L7: 3 | M7: No | N7: No | O7: =IF(E7=$S$1,ROW(),"") | P7: =IF(J7=$U$1,ROW(),"")
A8: Primary | B8: 29347 | C8: John Beldon Garrett | D8: Garrett | E8: 133 | F8: Republican | G8: 181 | H8: SCHOOL BOARD MEMBER DISTRICT 4 | I8: =REPLACE(H8,FIND(" -",H8&" -"),99,"") -> SCHOOL BOARD MEMBER DISTRICT 4 | J8: 18 | K8: 1 | L8: 3 | M8: Yes | N8: Yes | O8: =IF(E8=$S$1,ROW(),"") | P8: =IF(J8=$U$1,ROW(),"")
A9: General | B9: 29440 | C9: Ben Crabtree | D9: Crabtree | E9: 76 | F9: Republican | G9: 1118 | H9: ASSESSOR OF PROPERTY | I9: =REPLACE(H9,FIND(" -",H9&" -"),99,"") -> ASSESSOR OF PROPERTY | J9: 6 | K9: 1 | L9: 4 | M9: Yes | N9: Yes | O9: =IF(E9=$S$1,ROW(),"") -> 9 | P9: =IF(J9=$U$1,ROW(),"")
A10: General | B10: 29440 | C10: Carl Evans | D10: Evans | E10: 113 | F10: Democratic | G10: 1035 | H10: ASSESSOR OF PROPERTY | I10: =REPLACE(H10,FIND(" -",H10&" -"),99,"") -> ASSESSOR OF PROPERTY | J10: 6 | K10: 1 | L10: 4 | M10: No | N10: No | O10: =IF(E10=$S$1,ROW(),"") | P10: =IF(J10=$U$1,ROW(),"")
A11: General | B11: 29440 | C11: Maxie Garrett | D11: Garrett | E11: 135 | F11: Republican | G11: 1061 | H11: SUPERINTENDENT OF SCHOOLS | I11: =REPLACE(H11,FIND(" -",H11&" -"),99,"") -> SUPERINTENDENT OF SCHOOLS | J11: 14 | K11: 1 | L11: 5 | M11: No | N11: No | O11: =IF(E11=$S$1,ROW(),"") | P11: =IF(J11=$U$1,ROW(),"")
A12: General | B12: 29440 | C12: Charles Mitchell | D12: Mitchell | E12: 198 | F12: Democratic | G12: 1103 | H12: SUPERINTENDENT OF SCHOOLS | I12: =REPLACE(H12,FIND(" -",H12&" -"),99,"") -> SUPERINTENDENT OF SCHOOLS | J12: 14 | K12: 1 | L12: 5 | M12: Yes | N12: Yes | O12: =IF(E12=$S$1,ROW(),"") | P12: =IF(J12=$U$1,ROW(),"")
A13: General | B13: 29440 | C13: John B. Garrett | D13: Garrett | E13: 133 | F13: Republican | G13: 236 | H13: SCHOOL BOARD MEMBER DISTRICT 4 | I13: =REPLACE(H13,FIND(" -",H13&" -"),99,"") -> SCHOOL BOARD MEMBER DISTRICT 4 | J13: 18 | K13: 1 | L13: 6 | M13: Yes | N13: Yes | O13: =IF(E13=$S$1,ROW(),"") | P13: =IF(J13=$U$1,ROW(),"")
... A83: General | B83: 30168 | C83: George Lee | D83: Lee | E83: 165 | F83: Democratic | G83: 239 | H83: SCHOOL BOARD MEMBER DISTRICT 3 | I83: =REPLACE(H83,FIND(" -",H83&" -"),99,"") -> SCHOOL BOARD MEMBER DISTRICT 3 | J83: 17 | K83: 1 | L83: 35 | M83: No | N83: No | O83: =IF(E83=$S$1,ROW(),"") | P83: =IF(J83=$U$1,ROW(),"")
A84: General | B84: 30168 | C84: Charles L. Smith | D84: Smith | E84: 281 | F84: - | G84: No Data | H84: MAYOR | I84: =REPLACE(H84,FIND(" -",H84&" -"),99,"") -> MAYOR | J84: 20 | K84: 1 | L84: 36 | M84: Yes | N84: Yes | O84: =IF(E84=$S$1,ROW(),"") | P84: =IF(J84=$U$1,ROW(),"")
A85: General | B85: 30168 | C85: Clyde (Cotton) Bilbrey | D85: Bilbrey | E85: 31 | F85: - | G85: No Data | H85: ALDERMAN - VOTE FOR 2 | I85: =REPLACE(H85,FIND(" -",H85&" -"),99,"") -> ALDERMAN | J85: 21 | K85: 2 | L85: 37 | M85: Yes | N85: Yes (Vote for 2) | O85: =IF(E85=$S$1,ROW(),"") | P85: =IF(J85=$U$1,ROW(),"")
A86: General | B86: 30168 | C86: J.B. King | D86: King | E86: 158 | F86: - | G86: No Data | H86: ALDERMAN - VOTE FOR 2 | I86: =REPLACE(H86,FIND(" -",H86&" -"),99,"") -> ALDERMAN | J86: 21 | K86: 2 | L86: 37 | M86: Yes | N86: Yes (Vote for 2) | O86: =IF(E86=$S$1,ROW(),"") | P86: =IF(J86=$U$1,ROW(),"")
A87: General | B87: 30168 | C87: Edna Crouch | D87: Crouch | E87: 88 | F87: - | G87: No Data | H87: CITY RECORDER | I87: =REPLACE(H87,FIND(" -",H87&" -"),99,"") -> CITY RECORDER | J87: 22 | K87: 1 | L87: 38 | M87: Yes | N87: Yes | O87: =IF(E87=$S$1,ROW(),"") | P87: =IF(J87=$U$1,ROW(),"")
A88: General | B88: 30257 | C88: Norman Garrett | D88: Garrett | E88: 136 | F88: Republican | G88: 237 | H88: COUNTY COMMISSIONER DISTRICT 1 - VOTE FOR 1 | I88: =REPLACE(H88,FIND(" -",H88&" -"),99,"") -> COUNTY COMMISSIONER DISTRICT 1 | J88: 2 | K88: 1 | L88: 39 | M88: No | N88: No (Vote for 1) | O88: =IF(E88=$S$1,ROW(),"") | P88: =IF(J88=$U$1,ROW(),"")
A89: General | B89: 30257 | C89: J. R. Simmons | D89: Simmons | E89: 277 | F89: Democratic | G89: 263 | H89: COUNTY COMMISSIONER DISTRICT 1 - VOTE FOR 1 | I89: =REPLACE(H89,FIND(" -",H89&" -"),99,"") -> COUNTY COMMISSIONER DISTRICT 1 | J89: 2 | K89: 1 | L89: 39 | M89: Yes | N89: Yes (Vote for 1) | O89: =IF(E89=$S$1,ROW(),"") | P89: =IF(J89=$U$1,ROW(),"")
A90: Primary | B90: 30803 | C90: Janice Shewmake | D90: Shewmake | E90: 276 | F90: Republican | G90: 95 | H90: COUNTY COMMISSIONER DISTRICT 2 - VOTE FOR 1 | I90: =REPLACE(H90,FIND(" -",H90&" -"),99,"") -> COUNTY COMMISSIONER DISTRICT 2 | J90: 3 | K90: 1 | L90: 40 | M90: Yes | N90: Yes (Vote for 1) | O90: =IF(E90=$S$1,ROW(),"") | P90: =IF(J90=$U$1,ROW(),"")
A91: Primary | B91: 30803 | C91: William B. Clark | D91: Clark | E91: 60 | F91: Republican | G91: 94 | H91: COUNTY COMMISSIONER DISTRICT 4 - VOTE FOR 1 | I91: =REPLACE(H91,FIND(" -",H91&" -"),99,"") -> COUNTY COMMISSIONER DISTRICT 4 | J91: 5 | K91: 1 | L91: 41 | M91: No | N91: No (Vote for 1) | O91: =IF(E91=$S$1,ROW(),"") | P91: =IF(J91=$U$1,ROW(),"")
A92: Primary | B92: 30803 | C92: Rex Melton | D92: Melton | E92: 194 | F92: Republican | G92: 136 | H92: COUNTY COMMISSIONER DISTRICT 4 - VOTE FOR 1 | I92: =REPLACE(H92,FIND(" -",H92&" -"),99,"") -> COUNTY COMMISSIONER DISTRICT 4 | J92: 5 | K92: 1 | L92: 41 | M92: Yes | N92: Yes (Vote for 1) | O92: =IF(E92=$S$1,ROW(),"") | P92: =IF(J92=$U$1,ROW(),"")
A93: Primary | B93: 30803 | C93: Ben Crabtree | D93: Crabtree | E93: 76 | F93: Republican | G93: 635 | H93: ASSESSOR OF PROPERTY | I93: =REPLACE(H93,FIND(" -",H93&" -"),99,"") -> ASSESSOR OF PROPERTY | J93: 6 | K93: 1 | L93: 42 | M93: Yes | N93: Yes | O93: =IF(E93=$S$1,ROW(),"") -> 93 | P93: =IF(J93=$U$1,ROW(),"")
A94: Primary | B94: 30803 | C94: Lynn (Little Daddy) Garrett | D94: Garrett | E94: 134 | F94: Republican | G94: 240 | H94: ASSESSOR OF PROPERTY | I94: =REPLACE(H94,FIND(" -",H94&" -"),99,"") -> ASSESSOR OF PROPERTY | J94: 6 | K94: 1 | L94: 42 | M94: No | N94: No | O94: =IF(E94=$S$1,ROW(),"") | P94: =IF(J94=$U$1,ROW(),"")
A95: Primary | B95: 30803 | C95: Glenn Tompkins | D95: Tompkins | E95: 306 | F95: Republican | G95: 216 | H95: ASSESSOR OF PROPERTY | I95: =REPLACE(H95,FIND(" -",H95&" -"),99,"") -> ASSESSOR OF PROPERTY | J95: 6 | K95: 1 | L95: 42 | M95: No | N95: No | O95: =IF(E95=$S$1,ROW(),"") | P95: =IF(J95=$U$1,ROW(),"")
A96: Primary | B96: 30803 | C96: Maxie Garrett | D96: Garrett | E96: 135 | F96: Republican | G96: 674 | H96: SUPERINTENDENT OF SCHOOLS | I96: =REPLACE(H96,FIND(" -",H96&" -"),99,"") -> SUPERINTENDENT OF SCHOOLS | J96: 14 | K96: 1 | L96: 43 | M96: Yes | N96: Yes | O96: =IF(E96=$S$1,ROW(),"") | P96: =IF(J96=$U$1,ROW(),"")
A97: Primary | B97: 30803 | C97: Michael Aaron | D97: Aaron | E97: 1 | F97: Republican | G97: 83 | H97: SCHOOL BOARD MEMBER DISTRICT 1 | I97: =REPLACE(H97,FIND(" -",H97&" -"),99,"") -> SCHOOL BOARD MEMBER DISTRICT 1 | J97: 15 | K97: 1 | L97: 44 | M97: No | N97: No | O97: =IF(E97=$S$1,ROW(),"") | P97: =IF(J97=$U$1,ROW(),"")
A98: Primary | B98: 30803 | C98: Theo Brown | D98: Brown | E98: 45 | F98: Republican | G98: 147 | H98: SCHOOL BOARD MEMBER DISTRICT 1 | I98: =REPLACE(H98,FIND(" -",H98&" -"),99,"") -> SCHOOL BOARD MEMBER DISTRICT 1 | J98: 15 | K98: 1 | L98: 44 | M98: No | N98: No | O98: =IF(E98=$S$1,ROW(),"") | P98: =IF(J98=$U$1,ROW(),"")
A99: Primary | B99: 30803 | C99: Jimmy Storie | D99: Storie | E99: 294 | F99: Republican | G99: 165 | H99: SCHOOL BOARD MEMBER DISTRICT 1 | I99: =REPLACE(H99,FIND(" -",H99&" -"),99,"") -> SCHOOL BOARD MEMBER DISTRICT 1 | J99: 15 | K99: 1 | L99: 44 | M99: Yes | N99: Yes | O99: =IF(E99=$S$1,ROW(),"") | P99: =IF(J99=$U$1,ROW(),"")
... A115: Primary | B115: 31538 | C115: Austin Flowers | D115: Flowers | E115: 118 | F115: Republican | G115: 318 | H115: COUNTY COMMISSIONER DISTRICT 1 - VOTE FOR 3 | I115: =REPLACE(H115,FIND(" -",H115&" -"),99,"") -> COUNTY COMMISSIONER DISTRICT 1 | J115: 2 | K115: 3 | L115: 53 | M115: Yes | N115: Yes (Vote for 3) | O115: =IF(E115=$S$1,ROW(),"") | P115: =IF(J115=$U$1,ROW(),"")
A116: Primary | B116: 31538 | C116: No declared candidates | F116: Republican | G116: - | H116: COUNTY COMMISSIONER DISTRICT 2 - VOTE FOR 2 | I116: =REPLACE(H116,FIND(" -",H116&" -"),99,"") -> COUNTY COMMISSIONER DISTRICT 2 | J116: 3 | K116: 2 | L116: 54 | M116: - | N116: - (Vote for 2) | O116: =IF(E116=$S$1,ROW(),"") | P116: =IF(J116=$U$1,ROW(),"")
A117: Primary | B117: 31538 | C117: Benny Cummings | D117: Cummings | E117: 92 | F117: Republican | G117: 199 | H117: COUNTY COMMISSIONER DISTRICT 3 - VOTE FOR 2 | I117: =REPLACE(H117,FIND(" -",H117&" -"),99,"") -> COUNTY COMMISSIONER DISTRICT 3 | J117: 4 | K117: 2 | L117: 55 | M117: Yes | N117: Yes (Vote for 2) | O117: =IF(E117=$S$1,ROW(),"") | P117: =IF(J117=$U$1,ROW(),"")
A118: Primary | B118: 31538 | C118: Dewey Williams | D118: Williams | E118: 315 | F118: Republican | G118: 209 | H118: COUNTY COMMISSIONER DISTRICT 3 - VOTE FOR 2 | I118: =REPLACE(H118,FIND(" -",H118&" -"),99,"") -> COUNTY COMMISSIONER DISTRICT 3 | J118: 4 | K118: 2 | L118: 55 | M118: Yes | N118: Yes (Vote for 2) | O118: =IF(E118=$S$1,ROW(),"") | P118: =IF(J118=$U$1,ROW(),"")
A119: Primary | B119: 31538 | C119: Lecil (Jack) Barnes | D119: Barnes | E119: 13 | F119: Republican | G119: 190 | H119: COUNTY COMMISSIONER DISTRICT 4 - VOTE FOR 2 | I119: =REPLACE(H119,FIND(" -",H119&" -"),99,"") -> COUNTY COMMISSIONER DISTRICT 4 | J119: 5 | K119: 2 | L119: 56 | M119: Yes | N119: Yes (Vote for 2) | O119: =IF(E119=$S$1,ROW(),"") | P119: =IF(J119=$U$1,ROW(),"")
A120: Primary | B120: 31538 | C120: Cosby Garrett | D120: Garrett | E120: 129 | F120: Republican | G120: 151 | H120: COUNTY COMMISSIONER DISTRICT 4 - VOTE FOR 2 | I120: =REPLACE(H120,FIND(" -",H120&" -"),99,"") -> COUNTY COMMISSIONER DISTRICT 4 | J120: 5 | K120: 2 | L120: 56 | M120: Yes | N120: Yes (Vote for 2) | O120: =IF(E120=$S$1,ROW(),"") | P120: =IF(J120=$U$1,ROW(),"")
A121: Primary | B121: 31538 | C121: Howard H. Cross | D121: Cross | E121: 83 | F121: Republican | G121: 1406 | H121: TRUSTEE | I121: =REPLACE(H121,FIND(" -",H121&" -"),99,"") -> TRUSTEE | J121: 7 | K121: 1 | L121: 57 | M121: Yes | N121: Yes | O121: =IF(E121=$S$1,ROW(),"") | P121: =IF(J121=$U$1,ROW(),"")
A122: Primary | B122: 31538 | C122: James (J.D.) Pritchett | D122: Pritchett | E122: 229 | F122: Republican | G122: 422 | H122: TRUSTEE | I122: =REPLACE(H122,FIND(" -",H122&" -"),99,"") -> TRUSTEE | J122: 7 | K122: 1 | L122: 57 | M122: No | N122: No | O122: =IF(E122=$S$1,ROW(),"") | P122: =IF(J122=$U$1,ROW(),"")
A123: Primary | B123: 31538 | C123: Bill Cummings | D123: Cummings | E123: 93 | F123: Republican | G123: 80 | H123: SHERIFF | I123: =REPLACE(H123,FIND(" -",H123&" -"),99,"") -> SHERIFF | J123: 9 | K123: 1 | L123: 58 | M123: No | N123: No | O123: =IF(E123=$S$1,ROW(),"") | P123: =IF(J123=$U$1,ROW(),"")
A124: Primary | B124: 31538 | C124: Edward (Hawkeye) Dowdy | D124: Dowdy | E124: 107 | F124: Republican | G124: 954 | H124: SHERIFF | I124: =REPLACE(H124,FIND(" -",H124&" -"),99,"") -> SHERIFF | J124: 9 | K124: 1 | L124: 58 | M124: Yes | N124: Yes | O124: =IF(E124=$S$1,ROW(),"") | P124: =IF(J124=$U$1,ROW(),"")
...
