Workbook
Name Print_Area_Candidate: OFFSET(Candidates!$I$1,0,0,COUNT(Candidates!$I$1:$I$29)+3,6)
Name Print_Area_Office: OFFSET(Offices!$G$1,0,0,COUNT(Offices!$G$1:$G$160)+3,5)

Sheet Candidates
B1: NAME | C1: LNAME | D1: CAND. # | I1: SELECT CANDIDATE FROM DROP-DOWN MENU BELOW | J1: NOTE: Does not include positions that were appointed. Primary: no background. General: gray background | Q1: Note: if you download this file and wish to make changes, the password to unprotect this sheet is 12345 The print area is currently set to print columns I through N.
I2: Ben Crabtree
B3: Michael Aaron | C3: Aaron | D3: 1 | I3: ELECTION DATE | J3: BALLOT NAME | K3: OFFICE | L3: ELECTION TYPE | M3: PARTY | N3: WIN?
B4: Chris Abbott | C4: Abbott | D4: 2 | I4: {=IFERROR(INDEX(Data!B:B,SMALL(Data!O:O,ROW(B1))),"")} -> 29347 | J4: =IFERROR(INDEX(Data!C:C,SMALL(Data!O:O,ROW(B1))),"") -> Ben Crabtree | K4: =IFERROR(PROPER(INDEX(Data!I:I,SMALL(Data!O:O,ROW(B1)))),"") -> Assessor Of Property | L4: {=IFERROR(INDEX(Data!A:A,SMALL(Data!O:O,ROW(B1))),"")} -> Primary | M4: {=IFERROR(INDEX(Data!F:F,SMALL(Data!O:O,ROW(B1))),"")} -> Republican | N4: {=IFERROR(INDEX(Data!M:M,SMALL(Data!O:O,ROW(B1))),"")} -> Yes
B5: Lonnie Abbott | C5: Abbott | D5: 3 | I5: {=IFERROR(INDEX(Data!B:B,SMALL(Data!O:O,ROW(B2))),"")} -> 29440 | J5: =IFERROR(INDEX(Data!C:C,SMALL(Data!O:O,ROW(B2))),"") -> Ben Crabtree | K5: =IFERROR(PROPER(INDEX(Data!I:I,SMALL(Data!O:O,ROW(B2)))),"") -> Assessor Of Property | L5: {=IFERROR(INDEX(Data!A:A,SMALL(Data!O:O,ROW(B2))),"")} -> General | M5: {=IFERROR(INDEX(Data!F:F,SMALL(Data!O:O,ROW(B2))),"")} -> Republican | N5: {=IFERROR(INDEX(Data!M:M,SMALL(Data!O:O,ROW(B2))),"")} -> Yes
B6: Shawn Abbott | C6: Abbott | D6: 4 | I6: {=IFERROR(INDEX(Data!B:B,SMALL(Data!O:O,ROW(B3))),"")} -> 30803 | J6: =IFERROR(INDEX(Data!C:C,SMALL(Data!O:O,ROW(B3))),"") -> Ben Crabtree | K6: =IFERROR(PROPER(INDEX(Data!I:I,SMALL(Data!O:O,ROW(B3)))),"") -> Assessor Of Property | L6: {=IFERROR(INDEX(Data!A:A,SMALL(Data!O:O,ROW(B3))),"")} -> Primary | M6: {=IFERROR(INDEX(Data!F:F,SMALL(Data!O:O,ROW(B3))),"")} -> Republican | N6: {=IFERROR(INDEX(Data!M:M,SMALL(Data!O:O,ROW(B3))),"")} -> Yes
B7: Roger Amonett | C7: Amonett | D7: 5 | I7: {=IFERROR(INDEX(Data!B:B,SMALL(Data!O:O,ROW(B4))),"")} -> 30896 | J7: =IFERROR(INDEX(Data!C:C,SMALL(Data!O:O,ROW(B4))),"") -> Benton (Ben) C. Crabtree | K7: =IFERROR(PROPER(INDEX(Data!I:I,SMALL(Data!O:O,ROW(B4)))),"") -> Assessor Of Property | L7: {=IFERROR(INDEX(Data!A:A,SMALL(Data!O:O,ROW(B4))),"")} -> General | M7: {=IFERROR(INDEX(Data!F:F,SMALL(Data!O:O,ROW(B4))),"")} -> Republican | N7: {=IFERROR(INDEX(Data!M:M,SMALL(Data!O:O,ROW(B4))),"")} -> Yes
B8: Jennifer Anderson | C8: Anderson | D8: 6 | I8: {=IFERROR(INDEX(Data!B:B,SMALL(Data!O:O,ROW(B5))),"")} -> 32210 | J8: =IFERROR(INDEX(Data!C:C,SMALL(Data!O:O,ROW(B5))),"") -> Benton (Ben) Crabtree | K8: =IFERROR(PROPER(INDEX(Data!I:I,SMALL(Data!O:O,ROW(B5)))),"") -> Assessor Of Property | L8: {=IFERROR(INDEX(Data!A:A,SMALL(Data!O:O,ROW(B5))),"")} -> Primary | M8: {=IFERROR(INDEX(Data!F:F,SMALL(Data!O:O,ROW(B5))),"")} -> Republican | N8: {=IFERROR(INDEX(Data!M:M,SMALL(Data!O:O,ROW(B5))),"")} -> Yes
B9: Larry Anderson | C9: Anderson | D9: 7 | I9: {=IFERROR(INDEX(Data!B:B,SMALL(Data!O:O,ROW(B6))),"")} -> 32359 | J9: =IFERROR(INDEX(Data!C:C,SMALL(Data!O:O,ROW(B6))),"") -> Benton (Ben) Crabtree | K9: =IFERROR(PROPER(INDEX(Data!I:I,SMALL(Data!O:O,ROW(B6)))),"") -> Assessor Of Property | L9: {=IFERROR(INDEX(Data!A:A,SMALL(Data!O:O,ROW(B6))),"")} -> General | M9: {=IFERROR(INDEX(Data!F:F,SMALL(Data!O:O,ROW(B6))),"")} -> Republican | N9: {=IFERROR(INDEX(Data!M:M,SMALL(Data!O:O,ROW(B6))),"")} -> No
B10: Nathan Anderson | C10: Anderson | D10: 8 | I10: {=IFERROR(INDEX(Data!B:B,SMALL(Data!O:O,ROW(B7))),"")} | J10: =IFERROR(INDEX(Data!C:C,SMALL(Data!O:O,ROW(B7))),"") | K10: =IFERROR(PROPER(INDEX(Data!I:I,SMALL(Data!O:O,ROW(B7)))),"") | L10: {=IFERROR(INDEX(Data!A:A,SMALL(Data!O:O,ROW(B7))),"")} | M10: {=IFERROR(INDEX(Data!F:F,SMALL(Data!O:O,ROW(B7))),"")} | N10: {=IFERROR(INDEX(Data!M:M,SMALL(Data!O:O,ROW(B7))),"")}
B11: Stanley Anderson | C11: Anderson | D11: 9 | I11: {=IFERROR(INDEX(Data!B:B,SMALL(Data!O:O,ROW(B8))),"")} | J11: =IFERROR(INDEX(Data!C:C,SMALL(Data!O:O,ROW(B8))),"") | K11: =IFERROR(PROPER(INDEX(Data!I:I,SMALL(Data!O:O,ROW(B8)))),"") | L11: {=IFERROR(INDEX(Data!A:A,SMALL(Data!O:O,ROW(B8))),"")} | M11: {=IFERROR(INDEX(Data!F:F,SMALL(Data!O:O,ROW(B8))),"")} | N11: {=IFERROR(INDEX(Data!M:M,SMALL(Data!O:O,ROW(B8))),"")}
B12: Barry Hoyle Asberry | C12: Asberry | D12: 10 | I12: {=IFERROR(INDEX(Data!B:B,SMALL(Data!O:O,ROW(B9))),"")} | J12: =IFERROR(INDEX(Data!C:C,SMALL(Data!O:O,ROW(B9))),"") | K12: =IFERROR(PROPER(INDEX(Data!I:I,SMALL(Data!O:O,ROW(B9)))),"") | L12: {=IFERROR(INDEX(Data!A:A,SMALL(Data!O:O,ROW(B9))),"")} | M12: {=IFERROR(INDEX(Data!F:F,SMALL(Data!O:O,ROW(B9))),"")} | N12: {=IFERROR(INDEX(Data!M:M,SMALL(Data!O:O,ROW(B9))),"")}
B13: Everett Asberry | C13: Asberry | D13: 11 | I13: {=IFERROR(INDEX(Data!B:B,SMALL(Data!O:O,ROW(B10))),"")} | J13: =IFERROR(INDEX(Data!C:C,SMALL(Data!O:O,ROW(B10))),"") | K13: =IFERROR(PROPER(INDEX(Data!I:I,SMALL(Data!O:O,ROW(B10)))),"") | L13: {=IFERROR(INDEX(Data!A:A,SMALL(Data!O:O,ROW(B10))),"")} | M13: {=IFERROR(INDEX(Data!F:F,SMALL(Data!O:O,ROW(B10))),"")} | N13: {=IFERROR(INDEX(Data!M:M,SMALL(Data!O:O,ROW(B10))),"")}
B14: Billy Gayle Barber | C14: Barber | D14: 12 | I14: {=IFERROR(INDEX(Data!B:B,SMALL(Data!O:O,ROW(B11))),"")} | J14: =IFERROR(INDEX(Data!C:C,SMALL(Data!O:O,ROW(B11))),"") | K14: =IFERROR(PROPER(INDEX(Data!I:I,SMALL(Data!O:O,ROW(B11)))),"") | L14: {=IFERROR(INDEX(Data!A:A,SMALL(Data!O:O,ROW(B11))),"")} | M14: {=IFERROR(INDEX(Data!F:F,SMALL(Data!O:O,ROW(B11))),"")} | N14: {=IFERROR(INDEX(Data!M:M,SMALL(Data!O:O,ROW(B11))),"")}
B15: Jack Barnes | C15: Barnes | D15: 13 | I15: {=IFERROR(INDEX(Data!B:B,SMALL(Data!O:O,ROW(B12))),"")} | J15: =IFERROR(INDEX(Data!C:C,SMALL(Data!O:O,ROW(B12))),"") | K15: =IFERROR(PROPER(INDEX(Data!I:I,SMALL(Data!O:O,ROW(B12)))),"") | L15: {=IFERROR(INDEX(Data!A:A,SMALL(Data!O:O,ROW(B12))),"")} | M15: {=IFERROR(INDEX(Data!F:F,SMALL(Data!O:O,ROW(B12))),"")} | N15: {=IFERROR(INDEX(Data!M:M,SMALL(Data!O:O,ROW(B12))),"")}
... B29: Tony Beaty | C29: Beaty | D29: 27 | I29: {=IFERROR(INDEX(Data!B:B,SMALL(Data!O:O,ROW(B26))),"")} | J29: =IFERROR(INDEX(Data!C:C,SMALL(Data!O:O,ROW(B26))),"") | K29: =IFERROR(PROPER(INDEX(Data!I:I,SMALL(Data!O:O,ROW(B26)))),"") | L29: {=IFERROR(INDEX(Data!A:A,SMALL(Data!O:O,ROW(B26))),"")} | M29: {=IFERROR(INDEX(Data!F:F,SMALL(Data!O:O,ROW(B26))),"")} | N29: {=IFERROR(INDEX(Data!M:M,SMALL(Data!O:O,ROW(B26))),"")}
B30: Wallace Beaty | C30: Beaty | D30: 28
B31: Cary W. Biddle | C31: Biddle | D31: 29
B32: Cletis Bilbrey | C32: Bilbrey | D32: 30
B33: Clyde (Cotton) Bilbrey | C33: Bilbrey | D33: 31
B34: John L "Johnny" Bilbrey | C34: Bilbrey | D34: 32
B35: Kenneth Bilbrey | C35: Bilbrey | D35: 33
B36: Mike Bilbrey | C36: Bilbrey | D36: 34
B37: Stephen Bilbrey | C37: Bilbrey | D37: 35
B38: Ralph E. Booher | C38: Booher | D38: 36
B39: Tim "Elmo" Booher | C39: Booher | D39: 37
B40: Michelle Sells Brannum | C40: Brannum | D40: 38
B41: Porter Cleston Brannum | C41: Brannum | D41: 39
... B337: No declared candidates | C337: Zzzzzzz | D337: 335

Sheet Offices
B1: OFFICES | G1: SELECT OFFICE FROM DROP-DOWN MENU BELOW | H1: NOTE: Does not include office holders who were appointed. Primary: no background. General: gray background and winner in bold | N1: Note: if you download this file and wish to make changes, the password to unprotect this sheet is 12345 The print area is currently set to print columns G through K.
G2: REGISTER OF DEEDS
B3: COUNTY EXECUTIVE | G3: ELECTION DATE | H3: CANDIDATE | I3: ELECTION TYPE | J3: PARTY | K3: WIN?
B4: COUNTY COMMISSION DIST 1 | G4: {=IFERROR(INDEX(Data!B:B,SMALL(Data!P:P,ROW(B1))),"")} -> 30075 | H4: {=IFERROR(INDEX(Data!C:C,SMALL(Data!P:P,ROW(B1))),"")} -> Melba Jean Crouch | I4: {=IFERROR(INDEX(Data!A:A,SMALL(Data!P:P,ROW(B1))),"")} -> Primary | J4: {=IFERROR(INDEX(Data!F:F,SMALL(Data!P:P,ROW(B1))),"")} -> Republican | K4: {=IFERROR(INDEX(Data!N:N,SMALL(Data!P:P,ROW(B1))),"")} -> No
B5: COUNTY COMMISSION DIST 2 | G5: {=IFERROR(INDEX(Data!B:B,SMALL(Data!P:P,ROW(B3))),"")} -> 30075 | H5: {=IFERROR(INDEX(Data!C:C,SMALL(Data!P:P,ROW(B3))),"")} -> Linda Young | I5: {=IFERROR(INDEX(Data!A:A,SMALL(Data!P:P,ROW(B3))),"")} -> Primary | J5: {=IFERROR(INDEX(Data!F:F,SMALL(Data!P:P,ROW(B3))),"")} -> Republican | K5: {=IFERROR(INDEX(Data!N:N,SMALL(Data!P:P,ROW(B3))),"")} -> Yes
B6: COUNTY COMMISSION DIST 3 | G6: {=IFERROR(INDEX(Data!B:B,SMALL(Data!P:P,ROW(B4))),"")} -> 30168 | H6: {=IFERROR(INDEX(Data!C:C,SMALL(Data!P:P,ROW(B4))),"")} -> Ben E. Ford | I6: {=IFERROR(INDEX(Data!A:A,SMALL(Data!P:P,ROW(B4))),"")} -> General | J6: {=IFERROR(INDEX(Data!F:F,SMALL(Data!P:P,ROW(B4))),"")} -> Democratic | K6: {=IFERROR(INDEX(Data!N:N,SMALL(Data!P:P,ROW(B4))),"")} -> No
B7: COUNTY COMMISSION DIST 4 | G7: {=IFERROR(INDEX(Data!B:B,SMALL(Data!P:P,ROW(B5))),"")} -> 30168 | H7: {=IFERROR(INDEX(Data!C:C,SMALL(Data!P:P,ROW(B5))),"")} -> Linda Young | I7: {=IFERROR(INDEX(Data!A:A,SMALL(Data!P:P,ROW(B5))),"")} -> General | J7: {=IFERROR(INDEX(Data!F:F,SMALL(Data!P:P,ROW(B5))),"")} -> Republican | K7: {=IFERROR(INDEX(Data!N:N,SMALL(Data!P:P,ROW(B5))),"")} -> Yes
B8: ASSESSOR OF PROPERTY | G8: {=IFERROR(INDEX(Data!B:B,SMALL(Data!P:P,ROW(B6))),"")} -> 31538 | H8: {=IFERROR(INDEX(Data!C:C,SMALL(Data!P:P,ROW(B6))),"")} -> Phyllis Stephens | I8: {=IFERROR(INDEX(Data!A:A,SMALL(Data!P:P,ROW(B6))),"")} -> Primary | J8: {=IFERROR(INDEX(Data!F:F,SMALL(Data!P:P,ROW(B6))),"")} -> Republican | K8: {=IFERROR(INDEX(Data!N:N,SMALL(Data!P:P,ROW(B6))),"")} -> Yes
B9: COUNTY TRUSTEE | G9: {=IFERROR(INDEX(Data!B:B,SMALL(Data!P:P,ROW(B7))),"")} -> 31538 | H9: {=IFERROR(INDEX(Data!C:C,SMALL(Data!P:P,ROW(B7))),"")} -> Linda Young | I9: {=IFERROR(INDEX(Data!A:A,SMALL(Data!P:P,ROW(B7))),"")} -> Primary | J9: {=IFERROR(INDEX(Data!F:F,SMALL(Data!P:P,ROW(B7))),"")} -> Republican | K9: {=IFERROR(INDEX(Data!N:N,SMALL(Data!P:P,ROW(B7))),"")} -> No
B10: GENERAL SESSIONS JUDGE | G10: {=IFERROR(INDEX(Data!B:B,SMALL(Data!P:P,ROW(B8))),"")} -> 31631 | H10: {=IFERROR(INDEX(Data!C:C,SMALL(Data!P:P,ROW(B8))),"")} -> Porter Cleston Brannum | I10: {=IFERROR(INDEX(Data!A:A,SMALL(Data!P:P,ROW(B8))),"")} -> General | J10: {=IFERROR(INDEX(Data!F:F,SMALL(Data!P:P,ROW(B8))),"")} -> Democratic | K10: {=IFERROR(INDEX(Data!N:N,SMALL(Data!P:P,ROW(B8))),"")} -> No
B11: SHERIFF | G11: {=IFERROR(INDEX(Data!B:B,SMALL(Data!P:P,ROW(B9))),"")} -> 31631 | H11: {=IFERROR(INDEX(Data!C:C,SMALL(Data!P:P,ROW(B9))),"")} -> Phyllis Stephens | I11: {=IFERROR(INDEX(Data!A:A,SMALL(Data!P:P,ROW(B9))),"")} -> General | J11: {=IFERROR(INDEX(Data!F:F,SMALL(Data!P:P,ROW(B9))),"")} -> Republican | K11: {=IFERROR(INDEX(Data!N:N,SMALL(Data!P:P,ROW(B9))),"")} -> Yes
B12: CIRCUIT COURT CLERK | G12: {=IFERROR(INDEX(Data!B:B,SMALL(Data!P:P,ROW(B10))),"")} -> 32994 | H12: {=IFERROR(INDEX(Data!C:C,SMALL(Data!P:P,ROW(B10))),"")} -> Dale Keisling | I12: {=IFERROR(INDEX(Data!A:A,SMALL(Data!P:P,ROW(B10))),"")} -> Primary | J12: {=IFERROR(INDEX(Data!F:F,SMALL(Data!P:P,ROW(B10))),"")} -> Republican | K12: {=IFERROR(INDEX(Data!N:N,SMALL(Data!P:P,ROW(B10))),"")} -> No
B13: COUNTY CLERK | G13: {=IFERROR(INDEX(Data!B:B,SMALL(Data!P:P,ROW(B11))),"")} -> 32994 | H13: {=IFERROR(INDEX(Data!C:C,SMALL(Data!P:P,ROW(B11))),"")} -> Georgia Reynolds | I13: {=IFERROR(INDEX(Data!A:A,SMALL(Data!P:P,ROW(B11))),"")} -> Primary | J13: {=IFERROR(INDEX(Data!F:F,SMALL(Data!P:P,ROW(B11))),"")} -> Republican | K13: {=IFERROR(INDEX(Data!N:N,SMALL(Data!P:P,ROW(B11))),"")} -> No
B14: REGISTER OF DEEDS | G14: {=IFERROR(INDEX(Data!B:B,SMALL(Data!P:P,ROW(B12))),"")} -> 32994 | H14: {=IFERROR(INDEX(Data!C:C,SMALL(Data!P:P,ROW(B12))),"")} -> Phyllis Stephens | I14: {=IFERROR(INDEX(Data!A:A,SMALL(Data!P:P,ROW(B12))),"")} -> Primary | J14: {=IFERROR(INDEX(Data!F:F,SMALL(Data!P:P,ROW(B12))),"")} -> Republican | K14: {=IFERROR(INDEX(Data!N:N,SMALL(Data!P:P,ROW(B12))),"")} -> Yes
B15: ROAD SUPERINTENDENT | G15: {=IFERROR(INDEX(Data!B:B,SMALL(Data!P:P,ROW(B13))),"")} -> 33087 | H15: {=IFERROR(INDEX(Data!C:C,SMALL(Data!P:P,ROW(B13))),"")} -> Juanita Lee | I15: {=IFERROR(INDEX(Data!A:A,SMALL(Data!P:P,ROW(B13))),"")} -> General | J15: {=IFERROR(INDEX(Data!F:F,SMALL(Data!P:P,ROW(B13))),"")} -> Democratic | K15: {=IFERROR(INDEX(Data!N:N,SMALL(Data!P:P,ROW(B13))),"")} -> No
B16: SUPERINTENDENT OF SCHOOLS | G16: {=IFERROR(INDEX(Data!B:B,SMALL(Data!P:P,ROW(B14))),"")} -> 33087 | H16: {=IFERROR(INDEX(Data!C:C,SMALL(Data!P:P,ROW(B14))),"")} -> Phyllis Stephens | I16: {=IFERROR(INDEX(Data!A:A,SMALL(Data!P:P,ROW(B14))),"")} -> General | J16: {=IFERROR(INDEX(Data!F:F,SMALL(Data!P:P,ROW(B14))),"")} -> Republican | K16: {=IFERROR(INDEX(Data!N:N,SMALL(Data!P:P,ROW(B14))),"")} -> Yes
... B24: RECORDER | G24: {=IFERROR(INDEX(Data!B:B,SMALL(Data!P:P,ROW(B22))),"")} -> 37469 | H24: {=IFERROR(INDEX(Data!C:C,SMALL(Data!P:P,ROW(B22))),"")} -> Phyllis "Dowdy" Whitt | I24: {=IFERROR(INDEX(Data!A:A,SMALL(Data!P:P,ROW(B22))),"")} -> General | J24: {=IFERROR(INDEX(Data!F:F,SMALL(Data!P:P,ROW(B22))),"")} -> Republican | K24: {=IFERROR(INDEX(Data!N:N,SMALL(Data!P:P,ROW(B22))),"")} -> No
G25: {=IFERROR(INDEX(Data!B:B,SMALL(Data!P:P,ROW(B23))),"")} -> 38839 | H25: {=IFERROR(INDEX(Data!C:C,SMALL(Data!P:P,ROW(B23))),"")} -> Doug Scroggins | I25: {=IFERROR(INDEX(Data!A:A,SMALL(Data!P:P,ROW(B23))),"")} -> Primary | J25: {=IFERROR(INDEX(Data!F:F,SMALL(Data!P:P,ROW(B23))),"")} -> Republican | K25: {=IFERROR(INDEX(Data!N:N,SMALL(Data!P:P,ROW(B23))),"")} -> Yes
G26: {=IFERROR(INDEX(Data!B:B,SMALL(Data!P:P,ROW(B24))),"")} -> 38932 | H26: {=IFERROR(INDEX(Data!C:C,SMALL(Data!P:P,ROW(B24))),"")} -> Phyllis Ford | I26: {=IFERROR(INDEX(Data!A:A,SMALL(Data!P:P,ROW(B24))),"")} -> General | J26: {=IFERROR(INDEX(Data!F:F,SMALL(Data!P:P,ROW(B24))),"")} -> Democratic | K26: {=IFERROR(INDEX(Data!N:N,SMALL(Data!P:P,ROW(B24))),"")} -> Yes
G27: {=IFERROR(INDEX(Data!B:B,SMALL(Data!P:P,ROW(B25))),"")} -> 38932 | H27: {=IFERROR(INDEX(Data!C:C,SMALL(Data!P:P,ROW(B25))),"")} -> Doug Scroggins | I27: {=IFERROR(INDEX(Data!A:A,SMALL(Data!P:P,ROW(B25))),"")} -> General | J27: {=IFERROR(INDEX(Data!F:F,SMALL(Data!P:P,ROW(B25))),"")} -> Republican | K27: {=IFERROR(INDEX(Data!N:N,SMALL(Data!P:P,ROW(B25))),"")} -> No
G28: {=IFERROR(INDEX(Data!B:B,SMALL(Data!P:P,ROW(B26))),"")} -> 39756 | H28: {=IFERROR(INDEX(Data!C:C,SMALL(Data!P:P,ROW(B26))),"")} -> Frankie Beason | I28: {=IFERROR(INDEX(Data!A:A,SMALL(Data!P:P,ROW(B26))),"")} -> General | J28: {=IFERROR(INDEX(Data!F:F,SMALL(Data!P:P,ROW(B26))),"")} -> Republican | K28: {=IFERROR(INDEX(Data!N:N,SMALL(Data!P:P,ROW(B26))),"")} -> No
G29: {=IFERROR(INDEX(Data!B:B,SMALL(Data!P:P,ROW(B27))),"")} -> 39756 | H29: {=IFERROR(INDEX(Data!C:C,SMALL(Data!P:P,ROW(B27))),"")} -> Sherry "Dianne" Farmer | I29: {=IFERROR(INDEX(Data!A:A,SMALL(Data!P:P,ROW(B27))),"")} -> General | J29: {=IFERROR(INDEX(Data!F:F,SMALL(Data!P:P,ROW(B27))),"")} -> Independent | K29: {=IFERROR(INDEX(Data!N:N,SMALL(Data!P:P,ROW(B27))),"")} -> No
G30: {=IFERROR(INDEX(Data!B:B,SMALL(Data!P:P,ROW(B28))),"")} -> 39756 | H30: {=IFERROR(INDEX(Data!C:C,SMALL(Data!P:P,ROW(B28))),"")} -> Jeff Ford | I30: {=IFERROR(INDEX(Data!A:A,SMALL(Data!P:P,ROW(B28))),"")} -> General | J30: {=IFERROR(INDEX(Data!F:F,SMALL(Data!P:P,ROW(B28))),"")} -> Democratic | K30: {=IFERROR(INDEX(Data!N:N,SMALL(Data!P:P,ROW(B28))),"")} -> Yes
G31: {=IFERROR(INDEX(Data!B:B,SMALL(Data!P:P,ROW(B29))),"")} -> 39756 | H31: {=IFERROR(INDEX(Data!C:C,SMALL(Data!P:P,ROW(B29))),"")} -> Bill Logan | I31: {=IFERROR(INDEX(Data!A:A,SMALL(Data!P:P,ROW(B29))),"")} -> General | J31: {=IFERROR(INDEX(Data!F:F,SMALL(Data!P:P,ROW(B29))),"")} -> Independent | K31: {=IFERROR(INDEX(Data!N:N,SMALL(Data!P:P,ROW(B29))),"")} -> No
G32: {=IFERROR(INDEX(Data!B:B,SMALL(Data!P:P,ROW(B30))),"")} -> 39756 | H32: {=IFERROR(INDEX(Data!C:C,SMALL(Data!P:P,ROW(B30))),"")} -> Joey Rhule | I32: {=IFERROR(INDEX(Data!A:A,SMALL(Data!P:P,ROW(B30))),"")} -> General | J32: {=IFERROR(INDEX(Data!F:F,SMALL(Data!P:P,ROW(B30))),"")} -> Independent | K32: {=IFERROR(INDEX(Data!N:N,SMALL(Data!P:P,ROW(B30))),"")} -> No
G33: {=IFERROR(INDEX(Data!B:B,SMALL(Data!P:P,ROW(B31))),"")} -> 39756 | H33: {=IFERROR(INDEX(Data!C:C,SMALL(Data!P:P,ROW(B31))),"")} -> Jimmy Ray Sells | I33: {=IFERROR(INDEX(Data!A:A,SMALL(Data!P:P,ROW(B31))),"")} -> General | J33: {=IFERROR(INDEX(Data!F:F,SMALL(Data!P:P,ROW(B31))),"")} -> Independent | K33: {=IFERROR(INDEX(Data!N:N,SMALL(Data!P:P,ROW(B31))),"")} -> No
G34: {=IFERROR(INDEX(Data!B:B,SMALL(Data!P:P,ROW(B32))),"")} -> 39756 | H34: {=IFERROR(INDEX(Data!C:C,SMALL(Data!P:P,ROW(B32))),"")} -> Lynne Smoody | I34: {=IFERROR(INDEX(Data!A:A,SMALL(Data!P:P,ROW(B32))),"")} -> General | J34: {=IFERROR(INDEX(Data!F:F,SMALL(Data!P:P,ROW(B32))),"")} -> Independent | K34: {=IFERROR(INDEX(Data!N:N,SMALL(Data!P:P,ROW(B32))),"")} -> No
G35: {=IFERROR(INDEX(Data!B:B,SMALL(Data!P:P,ROW(B33))),"")} -> 40302 | H35: {=IFERROR(INDEX(Data!C:C,SMALL(Data!P:P,ROW(B33))),"")} -> Frankie Beason | I35: {=IFERROR(INDEX(Data!A:A,SMALL(Data!P:P,ROW(B33))),"")} -> Primary | J35: {=IFERROR(INDEX(Data!F:F,SMALL(Data!P:P,ROW(B33))),"")} -> Republican | K35: {=IFERROR(INDEX(Data!N:N,SMALL(Data!P:P,ROW(B33))),"")} -> No
G36: {=IFERROR(INDEX(Data!B:B,SMALL(Data!P:P,ROW(B34))),"")} -> 40302 | H36: {=IFERROR(INDEX(Data!C:C,SMALL(Data!P:P,ROW(B34))),"")} -> Letha (Mullins) McCurdy | I36: {=IFERROR(INDEX(Data!A:A,SMALL(Data!P:P,ROW(B34))),"")} -> Primary | J36: {=IFERROR(INDEX(Data!F:F,SMALL(Data!P:P,ROW(B34))),"")} -> Republican | K36: {=IFERROR(INDEX(Data!N:N,SMALL(Data!P:P,ROW(B34))),"")} -> Yes
... G119: {=IFERROR(INDEX(Data!B:B,SMALL(Data!P:P,ROW(B117))),"")} | H119: {=IFERROR(INDEX(Data!C:C,SMALL(Data!P:P,ROW(B117))),"")} | I119: {=IFERROR(INDEX(Data!A:A,SMALL(Data!P:P,ROW(B117))),"")} | J119: {=IFERROR(INDEX(Data!F:F,SMALL(Data!P:P,ROW(B117))),"")} | K119: {=IFERROR(INDEX(Data!N:N,SMALL(Data!P:P,ROW(B117))),"")}

Sheet Data
A1: TYPE | B1: DATE | C1: NAME | D1: LNAME | E1: NAME # | F1: PARTY | G1: VOTES | H1: OFFICE | I1: OFFICE ONLY | J1: OFFICE # | K1: VOTE FOR | L1: CONTEST# | M1: WIN? | N1: WIN W/ VOTE FOR | O1: CAND. MATCH | P1: OFFICE MATCH | R1: CAND #: | S1: =INDEX(Candidates!D:D,MATCH(Candidates!I2,Candidates!B:B,0)) -> 76 | T1: OFFICE #: | U1: =MATCH(Offices!G2,Offices!B3:B24,0) -> 12
A2: Primary | B2: 29347 | C2: Ben Crabtree | D2: Crabtree | E2: 76 | F2: Republican | G2: 649 | H2: ASSESSOR OF PROPERTY | I2: =REPLACE(H2,FIND(" -",H2&" -"),99,"") -> ASSESSOR OF PROPERTY | J2: 6 | K2: 1 | L2: 1 | M2: Yes | N2: Yes | O2: =IF(E2=$S$1,ROW(),"") -> 2 | P2: =IF(J2=$U$1,ROW(),"")
A3: Primary | B3: 29347 | C3: J. B. King | D3: King | E3: 158 | F3: Republican | G3: 510 | H3: ASSESSOR OF PROPERTY | I3: =REPLACE(H3,FIND(" -",H3&" -"),99,"") -> ASSESSOR OF PROPERTY | J3: 6 | K3: 1 | L3: 1 | M3: No | N3: No | O3: =IF(E3=$S$1,ROW(),"") | P3: =IF(J3=$U$1,ROW(),"")
A4: Primary | B4: 29347 | C4: Billy Gayle Barber | D4: Barber | E4: 12 | F4: Republican | G4: 212 | H4: SUPERINTENDENT OF SCHOOLS | I4: =REPLACE(H4,FIND(" -",H4&" -"),99,"") -> SUPERINTENDENT OF SCHOOLS | J4: 14 | K4: 1 | L4: 2 | M4: No | N4: No | O4: =IF(E4=$S$1,ROW(),"") | P4: =IF(J4=$U$1,ROW(),"")
A5: Primary | B5: 29347 | C5: Maxie Garrett | D5: Garrett | E5: 135 | F5: Republican | G5: 565 | H5: SUPERINTENDENT OF SCHOOLS | I5: =REPLACE(H5,FIND(" -",H5&" -"),99,"") -> SUPERINTENDENT OF SCHOOLS | J5: 14 | K5: 1 | L5: 2 | M5: Yes | N5: Yes | O5: =IF(E5=$S$1,ROW(),"") | P5: =IF(J5=$U$1,ROW(),"")
A6: Primary | B6: 29347 | C6: Audrey Tompkins | D6: Tompkins | E6: 302 | F6: Republican | G6: 399 | H6: SUPERINTENDENT OF SCHOOLS | I6: =REPLACE(H6,FIND(" -",H6&" -"),99,"") -> SUPERINTENDENT OF SCHOOLS | J6: 14 | K6: 1 | L6: 2 | M6: No | N6: No | O6: =IF(E6=$S$1,ROW(),"") | P6: =IF(J6=$U$1,ROW(),"")
A7: Primary | B7: 29347 | C7: Jay Decker | D7: Decker | E7: 101 | F7: Republican | G7: 99 | H7: SCHOOL BOARD MEMBER DISTRICT 4 | I7: =REPLACE(H7,FIND(" -",H7&" -"),99,"") -> SCHOOL BOARD MEMBER DISTRICT 4 | J7: 18 | K7: 1 | L7: 3 | M7: No | N7: No | O7: =IF(E7=$S$1,ROW(),"") | P7: =IF(J7=$U$1,ROW(),"")
A8: Primary | B8: 29347 | C8: John Beldon Garrett | D8: Garrett | E8: 133 | F8: Republican | G8: 181 | H8: SCHOOL BOARD MEMBER DISTRICT 4 | I8: =REPLACE(H8,FIND(" -",H8&" -"),99,"") -> SCHOOL BOARD MEMBER DISTRICT 4 | J8: 18 | K8: 1 | L8: 3 | M8: Yes | N8: Yes | O8: =IF(E8=$S$1,ROW(),"") | P8: =IF(J8=$U$1,ROW(),"")
A9: General | B9: 29440 | C9: Ben Crabtree | D9: Crabtree | E9: 76 | F9: Republican | G9: 1118 | H9: ASSESSOR OF PROPERTY | I9: =REPLACE(H9,FIND(" -",H9&" -"),99,"") -> ASSESSOR OF PROPERTY | J9: 6 | K9: 1 | L9: 4 | M9: Yes | N9: Yes | O9: =IF(E9=$S$1,ROW(),"") -> 9 | P9: =IF(J9=$U$1,ROW(),"")
A10: General | B10: 29440 | C10: Carl Evans | D10: Evans | E10: 113 | F10: Democratic | G10: 1035 | H10: ASSESSOR OF PROPERTY | I10: =REPLACE(H10,FIND(" -",H10&" -"),99,"") -> ASSESSOR OF PROPERTY | J10: 6 | K10: 1 | L10: 4 | M10: No | N10: No | O10: =IF(E10=$S$1,ROW(),"") | P10: =IF(J10=$U$1,ROW(),"")
A11: General | B11: 29440 | C11: Maxie Garrett | D11: Garrett | E11: 135 | F11: Republican | G11: 1061 | H11: SUPERINTENDENT OF SCHOOLS | I11: =REPLACE(H11,FIND(" -",H11&" -"),99,"") -> SUPERINTENDENT OF SCHOOLS | J11: 14 | K11: 1 | L11: 5 | M11: No | N11: No | O11: =IF(E11=$S$1,ROW(),"") | P11: =IF(J11=$U$1,ROW(),"")
A12: General | B12: 29440 | C12: Charles Mitchell | D12: Mitchell | E12: 198 | F12: Democratic | G12: 1103 | H12: SUPERINTENDENT OF SCHOOLS | I12: =REPLACE(H12,FIND(" -",H12&" -"),99,"") -> SUPERINTENDENT OF SCHOOLS | J12: 14 | K12: 1 | L12: 5 | M12: Yes | N12: Yes | O12: =IF(E12=$S$1,ROW(),"") | P12: =IF(J12=$U$1,ROW(),"")
A13: General | B13: 29440 | C13: John B. Garrett | D13: Garrett | E13: 133 | F13: Republican | G13: 236 | H13: SCHOOL BOARD MEMBER DISTRICT 4 | I13: =REPLACE(H13,FIND(" -",H13&" -"),99,"") -> SCHOOL BOARD MEMBER DISTRICT 4 | J13: 18 | K13: 1 | L13: 6 | M13: Yes | N13: Yes | O13: =IF(E13=$S$1,ROW(),"") | P13: =IF(J13=$U$1,ROW(),"")
... A83: General | B83: 30168 | C83: George Lee | D83: Lee | E83: 165 | F83: Democratic | G83: 239 | H83: SCHOOL BOARD MEMBER DISTRICT 3 | I83: =REPLACE(H83,FIND(" -",H83&" -"),99,"") -> SCHOOL BOARD MEMBER DISTRICT 3 | J83: 17 | K83: 1 | L83: 35 | M83: No | N83: No | O83: =IF(E83=$S$1,ROW(),"") | P83: =IF(J83=$U$1,ROW(),"")
A84: General | B84: 30168 | C84: Charles L. Smith | D84: Smith | E84: 281 | F84: - | G84: No Data | H84: MAYOR | I84: =REPLACE(H84,FIND(" -",H84&" -"),99,"") -> MAYOR | J84: 20 | K84: 1 | L84: 36 | M84: Yes | N84: Yes | O84: =IF(E84=$S$1,ROW(),"") | P84: =IF(J84=$U$1,ROW(),"")
A85: General | B85: 30168 | C85: Clyde (Cotton) Bilbrey | D85: Bilbrey | E85: 31 | F85: - | G85: No Data | H85: ALDERMAN - VOTE FOR 2 | I85: =REPLACE(H85,FIND(" -",H85&" -"),99,"") -> ALDERMAN | J85: 21 | K85: 2 | L85: 37 | M85: Yes | N85: Yes (Vote for 2) | O85: =IF(E85=$S$1,ROW(),"") | P85: =IF(J85=$U$1,ROW(),"")
A86: General | B86: 30168 | C86: J.B. King | D86: King | E86: 158 | F86: - | G86: No Data | H86: ALDERMAN - VOTE FOR 2 | I86: =REPLACE(H86,FIND(" -",H86&" -"),99,"") -> ALDERMAN | J86: 21 | K86: 2 | L86: 37 | M86: Yes | N86: Yes (Vote for 2) | O86: =IF(E86=$S$1,ROW(),"") | P86: =IF(J86=$U$1,ROW(),"")
A87: General | B87: 30168 | C87: Edna Crouch | D87: Crouch | E87: 88 | F87: - | G87: No Data | H87: CITY RECORDER | I87: =REPLACE(H87,FIND(" -",H87&" -"),99,"") -> CITY RECORDER | J87: 22 | K87: 1 | L87: 38 | M87: Yes | N87: Yes | O87: =IF(E87=$S$1,ROW(),"") | P87: =IF(J87=$U$1,ROW(),"")
A88: General | B88: 30257 | C88: Norman Garrett | D88: Garrett | E88: 136 | F88: Republican | G88: 237 | H88: COUNTY COMMISSIONER DISTRICT 1 - VOTE FOR 1 | I88: =REPLACE(H88,FIND(" -",H88&" -"),99,"") -> COUNTY COMMISSIONER DISTRICT 1 | J88: 2 | K88: 1 | L88: 39 | M88: No | N88: No (Vote for 1) | O88: =IF(E88=$S$1,ROW(),"") | P88: =IF(J88=$U$1,ROW(),"")
A89: General | B89: 30257 | C89: J. R. Simmons | D89: Simmons | E89: 277 | F89: Democratic | G89: 263 | H89: COUNTY COMMISSIONER DISTRICT 1 - VOTE FOR 1 | I89: =REPLACE(H89,FIND(" -",H89&" -"),99,"") -> COUNTY COMMISSIONER DISTRICT 1 | J89: 2 | K89: 1 | L89: 39 | M89: Yes | N89: Yes (Vote for 1) | O89: =IF(E89=$S$1,ROW(),"") | P89: =IF(J89=$U$1,ROW(),"")
A90: Primary | B90: 30803 | C90: Janice Shewmake | D90: Shewmake | E90: 276 | F90: Republican | G90: 95 | H90: COUNTY COMMISSIONER DISTRICT 2 - VOTE FOR 1 | I90: =REPLACE(H90,FIND(" -",H90&" -"),99,"") -> COUNTY COMMISSIONER DISTRICT 2 | J90: 3 | K90: 1 | L90: 40 | M90: Yes | N90: Yes (Vote for 1) | O90: =IF(E90=$S$1,ROW(),"") | P90: =IF(J90=$U$1,ROW(),"")
A91: Primary | B91: 30803 | C91: William B. Clark | D91: Clark | E91: 60 | F91: Republican | G91: 94 | H91: COUNTY COMMISSIONER DISTRICT 4 - VOTE FOR 1 | I91: =REPLACE(H91,FIND(" -",H91&" -"),99,"") -> COUNTY COMMISSIONER DISTRICT 4 | J91: 5 | K91: 1 | L91: 41 | M91: No | N91: No (Vote for 1) | O91: =IF(E91=$S$1,ROW(),"") | P91: =IF(J91=$U$1,ROW(),"")
A92: Primary | B92: 30803 | C92: Rex Melton | D92: Melton | E92: 194 | F92: Republican | G92: 136 | H92: COUNTY COMMISSIONER DISTRICT 4 - VOTE FOR 1 | I92: =REPLACE(H92,FIND(" -",H92&" -"),99,"") -> COUNTY COMMISSIONER DISTRICT 4 | J92: 5 | K92: 1 | L92: 41 | M92: Yes | N92: Yes (Vote for 1) | O92: =IF(E92=$S$1,ROW(),"") | P92: =IF(J92=$U$1,ROW(),"")
A93: Primary | B93: 30803 | C93: Ben Crabtree | D93: Crabtree | E93: 76 | F93: Republican | G93: 635 | H93: ASSESSOR OF PROPERTY | I93: =REPLACE(H93,FIND(" -",H93&" -"),99,"") -> ASSESSOR OF PROPERTY | J93: 6 | K93: 1 | L93: 42 | M93: Yes | N93: Yes | O93: =IF(E93=$S$1,ROW(),"") -> 93 | P93: =IF(J93=$U$1,ROW(),"")
A94: Primary | B94: 30803 | C94: Lynn (Little Daddy) Garrett | D94: Garrett | E94: 134 | F94: Republican | G94: 240 | H94: ASSESSOR OF PROPERTY | I94: =REPLACE(H94,FIND(" -",H94&" -"),99,"") -> ASSESSOR OF PROPERTY | J94: 6 | K94: 1 | L94: 42 | M94: No | N94: No | O94: =IF(E94=$S$1,ROW(),"") | P94: =IF(J94=$U$1,ROW(),"")
A95: Primary | B95: 30803 | C95: Glenn Tompkins | D95: Tompkins | E95: 306 | F95: Republican | G95: 216 | H95: ASSESSOR OF PROPERTY | I95: =REPLACE(H95,FIND(" -",H95&" -"),99,"") -> ASSESSOR OF PROPERTY | J95: 6 | K95: 1 | L95: 42 | M95: No | N95: No | O95: =IF(E95=$S$1,ROW(),"") | P95: =IF(J95=$U$1,ROW(),"")
A96: Primary | B96: 30803 | C96: Maxie Garrett | D96: Garrett | E96: 135 | F96: Republican | G96: 674 | H96: SUPERINTENDENT OF SCHOOLS | I96: =REPLACE(H96,FIND(" -",H96&" -"),99,"") -> SUPERINTENDENT OF SCHOOLS | J96: 14 | K96: 1 | L96: 43 | M96: Yes | N96: Yes | O96: =IF(E96=$S$1,ROW(),"") | P96: =IF(J96=$U$1,ROW(),"")
A97: Primary | B97: 30803 | C97: Michael Aaron | D97: Aaron | E97: 1 | F97: Republican | G97: 83 | H97: SCHOOL BOARD MEMBER DISTRICT 1 | I97: =REPLACE(H97,FIND(" -",H97&" -"),99,"") -> SCHOOL BOARD MEMBER DISTRICT 1 | J97: 15 | K97: 1 | L97: 44 | M97: No | N97: No | O97: =IF(E97=$S$1,ROW(),"") | P97: =IF(J97=$U$1,ROW(),"")
A98: Primary | B98: 30803 | C98: Theo Brown | D98: Brown | E98: 45 | F98: Republican | G98: 147 | H98: SCHOOL BOARD MEMBER DISTRICT 1 | I98: =REPLACE(H98,FIND(" -",H98&" -"),99,"") -> SCHOOL BOARD MEMBER DISTRICT 1 | J98: 15 | K98: 1 | L98: 44 | M98: No | N98: No | O98: =IF(E98=$S$1,ROW(),"") | P98: =IF(J98=$U$1,ROW(),"")
A99: Primary | B99: 30803 | C99: Jimmy Storie | D99: Storie | E99: 294 | F99: Republican | G99: 165 | H99: SCHOOL BOARD MEMBER DISTRICT 1 | I99: =REPLACE(H99,FIND(" -",H99&" -"),99,"") -> SCHOOL BOARD MEMBER DISTRICT 1 | J99: 15 | K99: 1 | L99: 44 | M99: Yes | N99: Yes | O99: =IF(E99=$S$1,ROW(),"") | P99: =IF(J99=$U$1,ROW(),"")
... A115: Primary | B115: 31538 | C115: Austin Flowers | D115: Flowers | E115: 118 | F115: Republican | G115: 318 | H115: COUNTY COMMISSIONER DISTRICT 1 - VOTE FOR 3 | I115: =REPLACE(H115,FIND(" -",H115&" -"),99,"") -> COUNTY COMMISSIONER DISTRICT 1 | J115: 2 | K115: 3 | L115: 53 | M115: Yes | N115: Yes (Vote for 3) | O115: =IF(E115=$S$1,ROW(),"") | P115: =IF(J115=$U$1,ROW(),"")
A116: Primary | B116: 31538 | C116: No declared candidates | F116: Republican | G116: - | H116: COUNTY COMMISSIONER DISTRICT 2 - VOTE FOR 2 | I116: =REPLACE(H116,FIND(" -",H116&" -"),99,"") -> COUNTY COMMISSIONER DISTRICT 2 | J116: 3 | K116: 2 | L116: 54 | M116: - | N116: - (Vote for 2) | O116: =IF(E116=$S$1,ROW(),"") | P116: =IF(J116=$U$1,ROW(),"")
A117: Primary | B117: 31538 | C117: Benny Cummings | D117: Cummings | E117: 92 | F117: Republican | G117: 199 | H117: COUNTY COMMISSIONER DISTRICT 3 - VOTE FOR 2 | I117: =REPLACE(H117,FIND(" -",H117&" -"),99,"") -> COUNTY COMMISSIONER DISTRICT 3 | J117: 4 | K117: 2 | L117: 55 | M117: Yes | N117: Yes (Vote for 2) | O117: =IF(E117=$S$1,ROW(),"") | P117: =IF(J117=$U$1,ROW(),"")
A118: Primary | B118: 31538 | C118: Dewey Williams | D118: Williams | E118: 315 | F118: Republican | G118: 209 | H118: COUNTY COMMISSIONER DISTRICT 3 - VOTE FOR 2 | I118: =REPLACE(H118,FIND(" -",H118&" -"),99,"") -> COUNTY COMMISSIONER DISTRICT 3 | J118: 4 | K118: 2 | L118: 55 | M118: Yes | N118: Yes (Vote for 2) | O118: =IF(E118=$S$1,ROW(),"") | P118: =IF(J118=$U$1,ROW(),"")
A119: Primary | B119: 31538 | C119: Lecil (Jack) Barnes | D119: Barnes | E119: 13 | F119: Republican | G119: 190 | H119: COUNTY COMMISSIONER DISTRICT 4 - VOTE FOR 2 | I119: =REPLACE(H119,FIND(" -",H119&" -"),99,"") -> COUNTY COMMISSIONER DISTRICT 4 | J119: 5 | K119: 2 | L119: 56 | M119: Yes | N119: Yes (Vote for 2) | O119: =IF(E119=$S$1,ROW(),"") | P119: =IF(J119=$U$1,ROW(),"")
A120: Primary | B120: 31538 | C120: Cosby Garrett | D120: Garrett | E120: 129 | F120: Republican | G120: 151 | H120: COUNTY COMMISSIONER DISTRICT 4 - VOTE FOR 2 | I120: =REPLACE(H120,FIND(" -",H120&" -"),99,"") -> COUNTY COMMISSIONER DISTRICT 4 | J120: 5 | K120: 2 | L120: 56 | M120: Yes | N120: Yes (Vote for 2) | O120: =IF(E120=$S$1,ROW(),"") | P120: =IF(J120=$U$1,ROW(),"")
A121: Primary | B121: 31538 | C121: Howard H. Cross | D121: Cross | E121: 83 | F121: Republican | G121: 1406 | H121: TRUSTEE | I121: =REPLACE(H121,FIND(" -",H121&" -"),99,"") -> TRUSTEE | J121: 7 | K121: 1 | L121: 57 | M121: Yes | N121: Yes | O121: =IF(E121=$S$1,ROW(),"") | P121: =IF(J121=$U$1,ROW(),"")
A122: Primary | B122: 31538 | C122: James (J.D.) Pritchett | D122: Pritchett | E122: 229 | F122: Republican | G122: 422 | H122: TRUSTEE | I122: =REPLACE(H122,FIND(" -",H122&" -"),99,"") -> TRUSTEE | J122: 7 | K122: 1 | L122: 57 | M122: No | N122: No | O122: =IF(E122=$S$1,ROW(),"") | P122: =IF(J122=$U$1,ROW(),"")
A123: Primary | B123: 31538 | C123: Bill Cummings | D123: Cummings | E123: 93 | F123: Republican | G123: 80 | H123: SHERIFF | I123: =REPLACE(H123,FIND(" -",H123&" -"),99,"") -> SHERIFF | J123: 9 | K123: 1 | L123: 58 | M123: No | N123: No | O123: =IF(E123=$S$1,ROW(),"") | P123: =IF(J123=$U$1,ROW(),"")
A124: Primary | B124: 31538 | C124: Edward (Hawkeye) Dowdy | D124: Dowdy | E124: 107 | F124: Republican | G124: 954 | H124: SHERIFF | I124: =REPLACE(H124,FIND(" -",H124&" -"),99,"") -> SHERIFF | J124: 9 | K124: 1 | L124: 58 | M124: Yes | N124: Yes | O124: =IF(E124=$S$1,ROW(),"") | P124: =IF(J124=$U$1,ROW(),"")
A125: Primary | B125: 31538 | C125: Robert Dale Garrett | D125: Garrett | E125: 138 | F125: Republican | G125: 528 | H125: SHERIFF | I125: =REPLACE(H125,FIND(" -",H125&" -"),99,"") -> SHERIFF | J125: 9 | K125: 1 | L125: 58 | M125: No | N125: No | O125: =IF(E125=$S$1,ROW(),"") | P125: =IF(J125=$U$1,ROW(),"")
A126: Primary | B126: 31538 | C126: Johnny Lee | D126: Lee | E126: 168 | F126: Republican | G126: 325 | H126: SHERIFF | I126: =REPLACE(H126,FIND(" -",H126&" -"),99,"") -> SHERIFF | J126: 9 | K126: 1 | L126: 58 | M126: No | N126: No | O126: =IF(E126=$S$1,ROW(),"") | P126: =IF(J126=$U$1,ROW(),"")
A127: Primary | B127: 31538 | C127: Marvin W. Claborn | D127: Claborn | E127: 52 | F127: Republican | G127: 691 | H127: CIRCUIT COURT CLERK | I127: =REPLACE(H127,FIND(" -",H127&" -"),99,"") -> CIRCUIT COURT CLERK | J127: 10 | K127: 1 | L127: 59 | M127: No | N127: No | O127: =IF(E127=$S$1,ROW(),"") | P127: =IF(J127=$U$1,ROW(),"")
A128: Primary | B128: 31538 | C128: Billy Lee | D128: Lee | E128: 163 | F128: Republican | G128: 1021 | H128: CIRCUIT COURT CLERK | I128: =REPLACE(H128,FIND(" -",H128&" -"),99,"") -> CIRCUIT COURT CLERK | J128: 10 | K128: 1 | L128: 59 | M128: Yes | N128: Yes | O128: =IF(E128=$S$1,ROW(),"") | P128: =IF(J128=$U$1,ROW(),"")
... A259: Primary | B259: 33673 | C259: Sam Gibson | D259: Gibson | E259: 143 | F259: Republican | G259: 266 | H259: SUPERINTENDENT OF SCHOOLS | I259: =REPLACE(H259,FIND(" -",H259&" -"),99,"") -> SUPERINTENDENT OF SCHOOLS | J259: 14 | K259: 1 | L259: 121 | M259: Yes | N259: Yes | O259: =IF(E259=$S$1,ROW(),"") | P259: =IF(J259=$U$1,ROW(),"")
A260: Primary | B260: 33673 | C260: No declared candidates | F260: Republican | G260: - | H260: BOARD OF EDUCATION AT LARGE | I260: =REPLACE(H260,FIND(" -",H260&" -"),99,"") -> BOARD OF EDUCATION AT LARGE | J260: 19 | K260: 1 | L260: 122 | M260: - | N260: - | O260: =IF(E260=$S$1,ROW(),"") | P260: =IF(J260=$U$1,ROW(),"")
A261: Primary | B261: 33673 | C261: Jeff Cales | D261: Cales | E261: 49 | F261: Republican | G261: 62 | H261: BOARD OF EDUCATION DISTRICT 4 | I261: =REPLACE(H261,FIND(" -",H261&" -"),99,"") -> BOARD OF EDUCATION DISTRICT 4 | J261: 18 | K261: 1 | L261: 123 | M261: Yes | N261: Yes | O261: =IF(E261=$S$1,ROW(),"") | P261: =IF(J261=$U$1,ROW(),"")
A262: General | B262: 33822 | C262: Larry Anderson | D262: Anderson | E262: 7 | F262: Republican | G262: 847 | H262: ASSESSOR OF PROPERTY | I262: =REPLACE(H262,FIND(" -",H262&" -"),99,"") -> ASSESSOR OF PROPERTY | J262: 6 | K262: 1 | L262: 124 | M262: No | N262: No | O262: =IF(E262=$S$1,ROW(),"") | P262: =IF(J262=$U$1,ROW(),"")
A263: General | B263: 33822 | C263: Fred A. Koger | D263: Koger | E263: 161 | F263: Democratic | G263: 956 | H263: ASSESSOR OF PROPERTY | I263: =REPLACE(H263,FIND(" -",H263&" -"),99,"") -> ASSESSOR OF PROPERTY | J263: 6 | K263: 1 | L263: 124 | M263: Yes | N263: Yes | O263: =IF(E263=$S$1,ROW(),"") | P263: =IF(J263=$U$1,ROW(),"")
A264: General | B264: 33822 | C264: Sam Gibson | D264: Gibson | E264: 143 | F264: Republican | G264: 860 | H264: SCHOOL SUPERINTENDENT | I264: =REPLACE(H264,FIND(" -",H264&" -"),99,"") -> SCHOOL SUPERINTENDENT | J264: 14 | K264: 1 | L264: 125 | M264: No | N264: No | O264: =IF(E264=$S$1,ROW(),"") | P264: =IF(J264=$U$1,ROW(),"")
A265: General | B265: 33822 | C265: Charles Mitchell | D265: Mitchell | E265: 198 | F265: Democratic | G265: 970 | H265: SCHOOL SUPERINTENDENT | I265: =REPLACE(H265,FIND(" -",H265&" -"),99,"") -> SCHOOL SUPERINTENDENT | J265: 14 | K265: 1 | L265: 125 | M265: Yes | N265: Yes | O265: =IF(E265=$S$1,ROW(),"") | P265: =IF(J265=$U$1,ROW(),"")
A266: General | B266: 33822 | C266: Joe R. Sells | D266: Sells | E266: 273 | F266: Democratic | G266: 854 | H266: SCHOOL BOARD MEMBER AT LARGE | I266: =REPLACE(H266,FIND(" -",H266&" -"),99,"") -> SCHOOL BOARD MEMBER AT LARGE | J266: 19 | K266: 1 | L266: 126 | M266: Yes | N266: Yes | O266: =IF(E266=$S$1,ROW(),"") | P266: =IF(J266=$U$1,ROW(),"")
A267: General | B267: 33822 | C267: Jeff Cales | D267: Cales | E267: 49 | F267: Republican | G267: 151 | H267: SCHOOL BOARD MEMBER DISTRICT 4 | I267: =REPLACE(H267,FIND(" -",H267&" -"),99,"") -> SCHOOL BOARD MEMBER DISTRICT 4 | J267: 18 | K267: 1 | L267: 127 | M267: Yes | N267: Yes | O267: =IF(E267=$S$1,ROW(),"") | P267: =IF(J267=$U$1,ROW(),"")
A268: General | B268: 33822 | C268: Jane Sells (Write-in candidate) | D268: Sells | E268: 271 | F268: Republican | G268: 85 | H268: SCHOOL BOARD MEMBER DISTRICT 4 | I268: =REPLACE(H268,FIND(" -",H268&" -"),99,"") -> SCHOOL BOARD MEMBER DISTRICT 4 | J268: 18 | K268: 1 | L268: 127 | M268: No | N268: No | O268: =IF(E268=$S$1,ROW(),"") | P268: =IF(J268=$U$1,ROW(),"")
A269: General | B269: 33911 | C269: David C. Beaty | D269: Beaty | E269: 17 | F269: Democratic | G269: 212 | H269: COUNTY COMMISSION DISTRICT 3 - VOTE FOR 1 | I269: =REPLACE(H269,FIND(" -",H269&" -"),99,"") -> COUNTY COMMISSION DISTRICT 3 | J269: 4 | K269: 1 | L269: 128 | M269: Yes | N269: Yes (Vote for 1) | O269: =IF(E269=$S$1,ROW(),"") | P269: =IF(J269=$U$1,ROW(),"")
A270: Primary | B270: 34457 | C270: Kelly Keisling | D270: Keisling | E270: 154 | F270: Republican | G270: 1267 | H270: COUNTY EXECUTIVE | I270: =REPLACE(H270,FIND(" -",H270&" -"),99,"") -> COUNTY EXECUTIVE | J270: 1 | K270: 1 | L270: 129 | M270: Yes | N270: Yes | O270: =IF(E270=$S$1,ROW(),"") | P270: =IF(J270=$U$1,ROW(),"")
A271: Primary | B271: 34457 | C271: Richard Pierce | D271: Pierce | E271: 225 | F271: Republican | G271: 573 | H271: COUNTY EXECUTIVE | I271: =REPLACE(H271,FIND(" -",H271&" -"),99,"") -> COUNTY EXECUTIVE | J271: 1 | K271: 1 | L271: 129 | M271: No | N271: No | O271: =IF(E271=$S$1,ROW(),"") | P271: =IF(J271=$U$1,ROW(),"")
A272: Primary | B272: 34457 | C272: Leon Davidson | D272: Davidson | E272: 98 | F272: Republican | G272: 269 | H272: COUNTY COMMISSIONER DISTRICT 1 - VOTE FOR 3 | I272: =REPLACE(H272,FIND(" -",H272&" -"),99,"") -> COUNTY COMMISSIONER DISTRICT 1 | J272: 2 | K272: 3 | L272: 130 | M272: Yes | N272: Yes (Vote for 3) | O272: =IF(E272=$S$1,ROW(),"") | P272: =IF(J272=$U$1,ROW(),"")
... A555: Primary | B555: 38839 | C555: Larry Brown | D555: Brown | E555: 44 | F555: Republican | G555: 1317 | H555: CIRCUIT COURT CLERK | I555: =REPLACE(H555,FIND(" -",H555&" -"),99,"") -> CIRCUIT COURT CLERK | J555: 10 | K555: 1 | L555: 243 | M555: Yes | N555: Yes | O555: =IF(E555=$S$1,ROW(),"") | P555: =IF(J555=$U$1,ROW(),"")
A556: Primary | B556: 38839 | C556: No declared candidates | F556: Republican | G556: - | H556: COUNTY CLERK | I556: =REPLACE(H556,FIND(" -",H556&" -"),99,"") -> COUNTY CLERK | J556: 11 | K556: 1 | L556: 244 | M556: - | N556: - | O556: =IF(E556=$S$1,ROW(),"") | P556: =IF(J556=$U$1,ROW(),"")
A557: Primary | B557: 38839 | C557: Doug Scroggins | D557: Scroggins | E557: 269 | F557: Republican | G557: 717 | H557: REGISTER | I557: =REPLACE(H557,FIND(" -",H557&" -"),99,"") -> REGISTER | J557: 12 | K557: 1 | L557: 245 | M557: Yes | N557: Yes | O557: =IF(E557=$S$1,ROW(),"") | P557: =IF(J557=$U$1,ROW(),"") -> 557
A558: Primary | B558: 38839 | C558: Jimmy Ray Cope | D558: Cope | E558: 71 | F558: Republican | G558: 797 | H558: ROAD SUPERINTENDENT | I558: =REPLACE(H558,FIND(" -",H558&" -"),99,"") -> ROAD SUPERINTENDENT | J558: 13 | K558: 1 | L558: 246 | M558: Yes | N558: Yes | O558: =IF(E558=$S$1,ROW(),"") | P558: =IF(J558=$U$1,ROW(),"")
A559: Primary | B559: 38839 | C559: Sam Gibson | D559: Gibson | E559: 143 | F559: Republican | G559: 440 | H559: ROAD SUPERINTENDENT | I559: =REPLACE(H559,FIND(" -",H559&" -"),99,"") -> ROAD SUPERINTENDENT | J559: 13 | K559: 1 | L559: 246 | M559: No | N559: No | O559: =IF(E559=$S$1,ROW(),"") | P559: =IF(J559=$U$1,ROW(),"")
A560: Primary | B560: 38839 | C560: Jeff Neal | D560: Neal | E560: 213 | F560: Republican | G560: 532 | H560: ROAD SUPERINTENDENT | I560: =REPLACE(H560,FIND(" -",H560&" -"),99,"") -> ROAD SUPERINTENDENT | J560: 13 | K560: 1 | L560: 246 | M560: No | N560: No | O560: =IF(E560=$S$1,ROW(),"") | P560: =IF(J560=$U$1,ROW(),"")
A561: General | B561: 38932 | C561: Stephen Bilbrey | D561: Bilbrey | E561: 35 | F561: Democratic | G561: 1554 | H561: COUNTY EXECUTIVE | I561: =REPLACE(H561,FIND(" -",H561&" -"),99,"") -> COUNTY EXECUTIVE | J561: 1 | K561: 1 | L561: 247 | M561: Yes | N561: Yes | O561: =IF(E561=$S$1,ROW(),"") | P561: =IF(J561=$U$1,ROW(),"")
A562: General | B562: 38932 | C562: Johnie H. Neal | D562: Neal | E562: 214 | F562: Republican | G562: 1144 | H562: COUNTY EXECUTIVE | I562: =REPLACE(H562,FIND(" -",H562&" -"),99,"") -> COUNTY EXECUTIVE | J562: 1 | K562: 1 | L562: 247 | M562: No | N562: No | O562: =IF(E562=$S$1,ROW(),"") | P562: =IF(J562=$U$1,ROW(),"")
A563: General | B563: 38932 | C563: Wallace Beaty | D563: Beaty | E563: 28 | F563: Democratic | G563: 381 | H563: COUNTY COMMISSIONER DISTRICT 1 - VOTE FOR 3 | I563: =REPLACE(H563,FIND(" -",H563&" -"),99,"") -> COUNTY COMMISSIONER DISTRICT 1 | J563: 2 | K563: 3 | L563: 248 | M563: No | N563: No (Vote for 3) | O563: =IF(E563=$S$1,ROW(),"") | P563: =IF(J563=$U$1,ROW(),"")
A564: General | B564: 38932 | C564: Misty Dowdy | D564: Dowdy | E564: 108 | F564: Republican | G564: 445 | H564: COUNTY COMMISSIONER DISTRICT 1 - VOTE FOR 3 | I564: =REPLACE(H564,FIND(" -",H564&" -"),99,"") -> COUNTY COMMISSIONER DISTRICT 1 | J564: 2 | K564: 3 | L564: 248 | M564: Yes | N564: Yes (Vote for 3) | O564: =IF(E564=$S$1,ROW(),"") | P564: =IF(J564=$U$1,ROW(),"")
A565: General | B565: 38932 | C565: Tommy Hill | D565: Hill | E565: 155 | F565: Democratic | G565: 153 | H565: COUNTY COMMISSIONER DISTRICT 1 - VOTE FOR 3 | I565: =REPLACE(H565,FIND(" -",H565&" -"),99,"") -> COUNTY COMMISSIONER DISTRICT 1 | J565: 2 | K565: 3 | L565: 248 | M565: No | N565: No (Vote for 3) | O565: =IF(E565=$S$1,ROW(),"") | P565: =IF(J565=$U$1,ROW(),"")
A566: General | B566: 38932 | C566: Penny L. Russell | D566: Russell | E566: 264 | F566: Republican | G566: 403 | H566: COUNTY COMMISSIONER DISTRICT 1 - VOTE FOR 3 | I566: =REPLACE(H566,FIND(" -",H566&" -"),99,"") -> COUNTY COMMISSIONER DISTRICT 1 | J566: 2 | K566: 3 | L566: 248 | M566: Yes | N566: Yes (Vote for 3) | O566: =IF(E566=$S$1,ROW(),"") | P566: =IF(J566=$U$1,ROW(),"")
A567: General | B567: 38932 | C567: Alice Storie | D567: Storie | E567: 291 | F567: Republican | G567: 534 | H567: COUNTY COMMISSIONER DISTRICT 1 - VOTE FOR 3 | I567: =REPLACE(H567,FIND(" -",H567&" -"),99,"") -> COUNTY COMMISSIONER DISTRICT 1 | J567: 2 | K567: 3 | L567: 248 | M567: Yes | N567: Yes (Vote for 3) | O567: =IF(E567=$S$1,ROW(),"") | P567: =IF(J567=$U$1,ROW(),"")
A568: General | B568: 38932 | C568: Danny Dennis | D568: Dennis | E568: 102 | F568: Democratic | G568: 329 | H568: COUNTY COMMISSIONER DISTRICT 2 - VOTE FOR 3 | I568: =REPLACE(H568,FIND(" -",H568&" -"),99,"") -> COUNTY COMMISSIONER DISTRICT 2 | J568: 3 | K568: 3 | L568: 249 | M568: Yes | N568: Yes (Vote for 3) | O568: =IF(E568=$S$1,ROW(),"") | P568: =IF(J568=$U$1,ROW(),"")
... A624: Primary | B624: 40302 | C624: Lowell H. Winningham | D624: Winningham | E624: 322 | F624: Republican | G624: 299 | H624: COUNTY COMMISSIONER DISTRICT 1 - VOTE FOR 3 | I624: =REPLACE(H624,FIND(" -",H624&" -"),99,"") -> COUNTY COMMISSIONER DISTRICT 1 | J624: 2 | K624: 3 | L624: 270 | M624: Yes | N624: Yes (Vote for 3) | O624: =IF(E624=$S$1,ROW(),"") | P624: =IF(J624=$U$1,ROW(),"")
A625: Primary | B625: 40302 | C625: No declared candidates | F625: Republican | G625: - | H625: COUNTY COMMISSIONER DISTRICT 2 - VOTE FOR 3 | I625: =REPLACE(H625,FIND(" -",H625&" -"),99,"") -> COUNTY COMMISSIONER DISTRICT 2 | J625: 3 | K625: 3 | L625: 271 | M625: - | N625: - (Vote for 3) | O625: =IF(E625=$S$1,ROW(),"") | P625: =IF(J625=$U$1,ROW(),"")
A626: Primary | B626: 40302 | C626: Chris Crabtree | D626: Crabtree | E626: 77 | F626: Republican | G626: 158 | H626: COUNTY COMMISSIONER DISTRICT 3 - VOTE FOR 3 | I626: =REPLACE(H626,FIND(" -",H626&" -"),99,"") -> COUNTY COMMISSIONER DISTRICT 3 | J626: 4 | K626: 3 | L626: 272 | M626: No | N626: No (Vote for 3) | O626: =IF(E626=$S$1,ROW(),"") | P626: =IF(J626=$U$1,ROW(),"")
A627: Primary | B627: 40302 | C627: Joe D. Harden, Jr. | D627: Harden | E627: 151 | F627: Republican | G627: 166 | H627: COUNTY COMMISSIONER DISTRICT 3 - VOTE FOR 3 | I627: =REPLACE(H627,FIND(" -",H627&" -"),99,"") -> COUNTY COMMISSIONER DISTRICT 3 | J627: 4 | K627: 3 | L627: 272 | M627: Yes | N627: Yes (Vote for 3) | O627: =IF(E627=$S$1,ROW(),"") | P627: =IF(J627=$U$1,ROW(),"")
A628: Primary | B628: 40302 | C628: Colan J. Huddleston | D628: Huddleston | E628: 157 | F628: Republican | G628: 278 | H628: COUNTY COMMISSIONER DISTRICT 3 - VOTE FOR 3 | I628: =REPLACE(H628,FIND(" -",H628&" -"),99,"") -> COUNTY COMMISSIONER DISTRICT 3 | J628: 4 | K628: 3 | L628: 272 | M628: Yes | N628: Yes (Vote for 3) | O628: =IF(E628=$S$1,ROW(),"") | P628: =IF(J628=$U$1,ROW(),"")
A629: Primary | B629: 40302 | C629: Daniel Masiongale | D629: Masiongale | E629: 186 | F629: Republican | G629: 264 | H629: COUNTY COMMISSIONER DISTRICT 3 - VOTE FOR 3 | I629: =REPLACE(H629,FIND(" -",H629&" -"),99,"") -> COUNTY COMMISSIONER DISTRICT 3 | J629: 4 | K629: 3 | L629: 272 | M629: Yes | N629: Yes (Vote for 3) | O629: =IF(E629=$S$1,ROW(),"") | P629: =IF(J629=$U$1,ROW(),"")
A630: Primary | B630: 40302 | C630: Ron Myers | D630: Myers | E630: 212 | F630: Republican | G630: 117 | H630: COUNTY COMMISSIONER DISTRICT 3 - VOTE FOR 3 | I630: =REPLACE(H630,FIND(" -",H630&" -"),99,"") -> COUNTY COMMISSIONER DISTRICT 3 | J630: 4 | K630: 3 | L630: 272 | M630: No | N630: No (Vote for 3) | O630: =IF(E630=$S$1,ROW(),"") | P630: =IF(J630=$U$1,ROW(),"")
A631: Primary | B631: 40302 | C631: Darrell L. Garrett | D631: Garrett | E631: 130 | F631: Republican | G631: 247 | H631: COUNTY COMMISSIONER DISTRICT 4 - VOTE FOR 3 | I631: =REPLACE(H631,FIND(" -",H631&" -"),99,"") -> COUNTY COMMISSIONER DISTRICT 4 | J631: 5 | K631: 3 | L631: 273 | M631: Yes | N631: Yes (Vote for 3) | O631: =IF(E631=$S$1,ROW(),"") | P631: =IF(J631=$U$1,ROW(),"")
A632: Primary | B632: 40302 | C632: Edward (Eddie) Holt | D632: Holt | E632: 156 | F632: Republican | G632: 191 | H632: COUNTY COMMISSIONER DISTRICT 4 - VOTE FOR 3 | I632: =REPLACE(H632,FIND(" -",H632&" -"),99,"") -> COUNTY COMMISSIONER DISTRICT 4 | J632: 5 | K632: 3 | L632: 273 | M632: Yes | N632: Yes (Vote for 3) | O632: =IF(E632=$S$1,ROW(),"") | P632: =IF(J632=$U$1,ROW(),"")
A633: Primary | B633: 40302 | C633: Kenny Tompkins | D633: Tompkins | E633: 307 | F633: Republican | G633: 227 | H633: COUNTY COMMISSIONER DISTRICT 4 - VOTE FOR 3 | I633: =REPLACE(H633,FIND(" -",H633&" -"),99,"") -> COUNTY COMMISSIONER DISTRICT 4 | J633: 5 | K633: 3 | L633: 273 | M633: Yes | N633: Yes (Vote for 3) | O633: =IF(E633=$S$1,ROW(),"") | P633: =IF(J633=$U$1,ROW(),"")
A634: Primary | B634: 40302 | C634: Evan Wright | D634: Wright | E634: 326 | F634: Republican | G634: 161 | H634: COUNTY COMMISSIONER DISTRICT 4 - VOTE FOR 3 | I634: =REPLACE(H634,FIND(" -",H634&" -"),99,"") -> COUNTY COMMISSIONER DISTRICT 4 | J634: 5 | K634: 3 | L634: 273 | M634: No | N634: No (Vote for 3) | O634: =IF(E634=$S$1,ROW(),"") | P634: =IF(J634=$U$1,ROW(),"")
A635: Primary | B635: 40302 | C635: Jennifer Anderson | D635: Anderson | E635: 6 | F635: Republican | G635: 1258 | H635: COUNTY TRUSTEE | I635: =REPLACE(H635,FIND(" -",H635&" -"),99,"") -> COUNTY TRUSTEE | J635: 7 | K635: 1 | L635: 274 | M635: Yes | N635: Yes | O635: =IF(E635=$S$1,ROW(),"") | P635: =IF(J635=$U$1,ROW(),"")
A636: Primary | B636: 40302 | C636: Penny L. Russell | D636: Russell | E636: 264 | F636: Republican | G636: 659 | H636: COUNTY TRUSTEE | I636: =REPLACE(H636,FIND(" -",H636&" -"),99,"") -> COUNTY TRUSTEE | J636: 7 | K636: 1 | L636: 274 | M636: No | N636: No | O636: =IF(E636=$S$1,ROW(),"") | P636: =IF(J636=$U$1,ROW(),"")
A637: Primary | B637: 40302 | C637: Lelon "Cowboy" Davidson | D637: Davidson | E637: 97 | F637: Republican | G637: 551 | H637: SHERIFF | I637: =REPLACE(H637,FIND(" -",H637&" -"),99,"") -> SHERIFF | J637: 9 | K637: 1 | L637: 275 | M637: No | N637: No | O637: =IF(E637=$S$1,ROW(),"") | P637: =IF(J637=$U$1,ROW(),"")
... A726: Primary | B726: 41765 | C726: Brian Tompkins | D726: Tompkins | E726: 303 | F726: Republican | G726: 339 | H726: CIRCUIT COURT CLERK | I726: =REPLACE(H726,FIND(" -",H726&" -"),99,"") -> CIRCUIT COURT CLERK | J726: 10 | K726: 1 | L726: 308 | M726: No | N726: No | O726: =IF(E726=$S$1,ROW(),"") | P726: =IF(J726=$U$1,ROW(),"")
A727: Primary | B727: 41765 | C727: No declared candidates | F727: Republican | G727: - | H727: COUNTY CLERK | I727: =REPLACE(H727,FIND(" -",H727&" -"),99,"") -> COUNTY CLERK | J727: 11 | K727: 1 | L727: 309 | M727: - | N727: - | O727: =IF(E727=$S$1,ROW(),"") | P727: =IF(J727=$U$1,ROW(),"")
A728: Primary | B728: 41765 | C728: David Clark | D728: Clark | E728: 57 | F728: Republican | G728: 357 | H728: REGISTER OF DEEDS | I728: =REPLACE(H728,FIND(" -",H728&" -"),99,"") -> REGISTER OF DEEDS | J728: 12 | K728: 1 | L728: 310 | M728: No | N728: No | O728: =IF(E728=$S$1,ROW(),"") | P728: =IF(J728=$U$1,ROW(),"") -> 728
A729: Primary | B729: 41765 | C729: Letha (Mullins) McCurdy | D729: McCurdy | E729: 192 | F729: Republican | G729: 1108 | H729: REGISTER OF DEEDS | I729: =REPLACE(H729,FIND(" -",H729&" -"),99,"") -> REGISTER OF DEEDS | J729: 12 | K729: 1 | L729: 310 | M729: Yes | N729: Yes | O729: =IF(E729=$S$1,ROW(),"") | P729: =IF(J729=$U$1,ROW(),"") -> 729
A730: Primary | B730: 41765 | C730: Jimmy Cope | D730: Cope | E730: 71 | F730: Republican | G730: 1209 | H730: ROAD SUPERINTENDENT | I730: =REPLACE(H730,FIND(" -",H730&" -"),99,"") -> ROAD SUPERINTENDENT | J730: 13 | K730: 1 | L730: 311 | M730: Yes | N730: Yes | O730: =IF(E730=$S$1,ROW(),"") | P730: =IF(J730=$U$1,ROW(),"")
A731: General | B731: 41858 | C731: Richard Daniel | D731: Daniel | E731: 96 | F731: Republican | G731: 1535 | H731: COUNTY EXECUTIVE | I731: =REPLACE(H731,FIND(" -",H731&" -"),99,"") -> COUNTY EXECUTIVE | J731: 1 | K731: 1 | L731: 312 | M731: Yes | N731: Yes | O731: =IF(E731=$S$1,ROW(),"") | P731: =IF(J731=$U$1,ROW(),"")
A732: General | B732: 41858 | C732: Fred Elder | D732: Elder | E732: 111 | F732: Democratic | G732: 883 | H732: COUNTY EXECUTIVE | I732: =REPLACE(H732,FIND(" -",H732&" -"),99,"") -> COUNTY EXECUTIVE | J732: 1 | K732: 1 | L732: 312 | M732: No | N732: No | O732: =IF(E732=$S$1,ROW(),"") | P732: =IF(J732=$U$1,ROW(),"")
A733: General | B733: 41858 | C733: Doyle Cope | D733: Cope | E733: 70 | F733: Democratic | G733: 277 | H733: COUNTY COMMISSION DISTRICT 1 - VOTE FOR 3 | I733: =REPLACE(H733,FIND(" -",H733&" -"),99,"") -> COUNTY COMMISSION DISTRICT 1 | J733: 2 | K733: 3 | L733: 313 | M733: No | N733: No (Vote for 3) | O733: =IF(E733=$S$1,ROW(),"") | P733: =IF(J733=$U$1,ROW(),"")
A734: General | B734: 41858 | C734: David J. Harer | D734: Harer | E734: 153 | F734: Republican | G734: 295 | H734: COUNTY COMMISSION DISTRICT 1 - VOTE FOR 3 | I734: =REPLACE(H734,FIND(" -",H734&" -"),99,"") -> COUNTY COMMISSION DISTRICT 1 | J734: 2 | K734: 3 | L734: 313 | M734: Yes | N734: Yes (Vote for 3) | O734: =IF(E734=$S$1,ROW(),"") | P734: =IF(J734=$U$1,ROW(),"")
A735: General | B735: 41858 | C735: Carter Martin | D735: Martin | E735: 180 | F735: Independent | G735: 290 | H735: COUNTY COMMISSION DISTRICT 1 - VOTE FOR 3 | I735: =REPLACE(H735,FIND(" -",H735&" -"),99,"") -> COUNTY COMMISSION DISTRICT 1 | J735: 2 | K735: 3 | L735: 313 | M735: Yes | N735: Yes (Vote for 3) | O735: =IF(E735=$S$1,ROW(),"") | P735: =IF(J735=$U$1,ROW(),"")
A736: General | B736: 41858 | C736: Matthew W. Storie | D736: Storie | E736: 295 | F736: Republican | G736: 523 | H736: COUNTY COMMISSION DISTRICT 1 - VOTE FOR 3 | I736: =REPLACE(H736,FIND(" -",H736&" -"),99,"") -> COUNTY COMMISSION DISTRICT 1 | J736: 2 | K736: 3 | L736: 313 | M736: Yes | N736: Yes (Vote for 3) | O736: =IF(E736=$S$1,ROW(),"") | P736: =IF(J736=$U$1,ROW(),"")
A737: General | B737: 41858 | C737: Lowell H. Winningham | D737: Winningham | E737: 322 | F737: Republican | G737: 263 | H737: COUNTY COMMISSION DISTRICT 1 - VOTE FOR 3 | I737: =REPLACE(H737,FIND(" -",H737&" -"),99,"") -> COUNTY COMMISSION DISTRICT 1 | J737: 2 | K737: 3 | L737: 313 | M737: No | N737: No (Vote for 3) | O737: =IF(E737=$S$1,ROW(),"") | P737: =IF(J737=$U$1,ROW(),"")
A738: General | B738: 41858 | C738: Mitchell Cross | D738: Cross | E738: 85 | F738: Republican | G738: 272 | H738: COUNTY COMMISSION DISTRICT 2 - VOTE FOR 3 | I738: =REPLACE(H738,FIND(" -",H738&" -"),99,"") -> COUNTY COMMISSION DISTRICT 2 | J738: 3 | K738: 3 | L738: 314 | M738: Yes | N738: Yes (Vote for 3) | O738: =IF(E738=$S$1,ROW(),"") | P738: =IF(J738=$U$1,ROW(),"")
A739: General | B739: 41858 | C739: Matthew Ford | D739: Ford | E739: 124 | F739: Democratic | G739: 176 | H739: COUNTY COMMISSION DISTRICT 2 - VOTE FOR 3 | I739: =REPLACE(H739,FIND(" -",H739&" -"),99,"") -> COUNTY COMMISSION DISTRICT 2 | J739: 3 | K739: 3 | L739: 314 | M739: No | N739: No (Vote for 3) | O739: =IF(E739=$S$1,ROW(),"") | P739: =IF(J739=$U$1,ROW(),"")
...
